BEGIN_USGS_DOQ_HEADER *
QUADRANGLE_NAME "EL PORTAL" *
QUADRANT NE *
WEST_LONGITUDE -119 48 45.000 *
EAST_LONGITUDE -119 45 0.000 *
NORTH_LATITUDE 37 45 0.000 *
SOUTH_LATITUDE 37 41 15.000 *
PRODUCTION_DATE 2001 11 20 *
RASTER_ORDER LEFT_RIGHT/TOP_BOTTOM *
BAND_ORGANIZATION "SINGLE FILE" *
BAND_CONTENT BLACK&WHITE *
BITS_PER_PIXEL 8 *
SAMPLES_AND_LINES 6401 7701 *
HORIZONTAL_DATUM NAD83 *
HORIZONTAL_COORDINATE_SYSTEM UTM *
COORDINATE_ZONE 11 *
HORIZONTAL_UNITS METERS *
HORIZONTAL_RESOLUTION 1.0 *
SECONDARY_HORIZONTAL_DATUM NAD27 *
XY_ORIGIN 251613.417 4182100.614 *
SECONDARY_XY_ORIGIN 251696.505 4181901.158 *
NATION US *
STATE CA *
NW_QUAD_CORNER_XY 252208.950 4181802.614 *
NE_QUAD_CORNER_XY 257716.498 4181638.810 *
SE_QUAD_CORNER_XY 257512.668 4174702.611 *
SW_QUAD_CORNER_XY 252000.478 4174866.323 *
SECONDARY_NW_QUAD_XY 252202.796 4181597.634 *
SECONDARY_NE_QUAD_XY 257710.480 4181433.826 *
SECONDARY_SE_QUAD_XY 257506.655 4174497.780 *
SECONDARY_SW_QUAD_XY 251994.328 4174661.496 *
RMSE_XY 1.43 *
IMAGE_SOURCE "BLACK AND WHITE FILM" *
SOURCE_IMAGE_ID "NAPP 10564 36" *
SOURCE_IMAGE_DATE 1998 9 18 *
SOURCE_IMAGE_ID "NAPP 10564 37" *
SOURCE_IMAGE_DATE 1998 9 18 *
SOURCE_IMAGE_ID "NAPP 10564 35" *
SOURCE_IMAGE_DATE 1998 9 18 *
SOURCE_IMAGE_ID "NAPP 10549 129" *
SOURCE_IMAGE_DATE 1998 8 20 *
SOURCE_IMAGE_ID "NAPP 10549 128" *
SOURCE_IMAGE_DATE 1998 8 20 *
SOURCE_IMAGE_ID "NAPP 10549 127" *
SOURCE_IMAGE_DATE 1998 8 20 *
SOURCE_IMAGE_ID "NAPP 10568 18" *
SOURCE_IMAGE_DATE 1999 8 1 *
SOURCE_IMAGE_ID "NAPP 10568 19" *
SOURCE_IMAGE_DATE 1999 8 1 *
SOURCE_IMAGE_ID "NAPP 10568 20" *
SOURCE_IMAGE_DATE 1999 8 1 *
SOURCE_DEM_DATE 2000 0 0 *
AGENCY "WESTERN MAPPING CENTER (WMC)" *
PRODUCER "USDA FS GEOSPATIAL SERVICE AND TECHNOLOGY CENTER" *
PRODUCTION_SYSTEM "ORBIT OR_RECTIFY V.5.2" *
STANDARD_VERSION 1996 12 *
METADATA_DATE 2001 11 26 *
DATA_FILE_SIZE 49300502 *
BYTE_COUNT 6401 * * * * * * * * * * * * * * * * * * * * *
END_USGS_HEADER *
