BEGIN_USGS_DOQ_HEADER *
QUADRANGLE_NAME "JUNE LAKE" *
QUADRANT NE *
WEST_LONGITUDE -119 3 45.000 *
EAST_LONGITUDE -119 0 0.000 *
NORTH_LATITUDE 37 52 30.000 *
SOUTH_LATITUDE 37 48 45.000 *
PRODUCTION_DATE 2001 12 19 *
RASTER_ORDER LEFT_RIGHT/TOP_BOTTOM *
BAND_ORGANIZATION "SINGLE FILE" *
BAND_CONTENT BLACK&WHITE *
BITS_PER_PIXEL 8 *
SAMPLES_AND_LINES 6337 7661 *
HORIZONTAL_DATUM NAD83 *
HORIZONTAL_COORDINATE_SYSTEM UTM *
COORDINATE_ZONE 11 *
HORIZONTAL_UNITS METERS *
HORIZONTAL_RESOLUTION 1.0 *
SECONDARY_HORIZONTAL_DATUM NAD27 *
XY_ORIGIN 318061.781 4194251.129 *
SECONDARY_XY_ORIGIN 318143.577 4194051.886 *
NATION US *
STATE CA *
NW_QUAD_CORNER_XY 318601.336 4193951.129 *
NE_QUAD_CORNER_XY 324098.828 4193831.423 *
SE_QUAD_CORNER_XY 323950.243 4186896.048 *
SW_QUAD_CORNER_XY 318448.101 4187015.687 *
SECONDARY_NW_QUAD_XY 318596.817 4193745.804 *
SECONDARY_NE_QUAD_XY 324094.447 4193626.095 *
SECONDARY_SE_QUAD_XY 323945.864 4186690.872 *
SECONDARY_SW_QUAD_XY 318443.585 4186810.514 *
RMSE_XY 1.80 *
IMAGE_SOURCE "BLACK AND WHITE FILM" *
SOURCE_IMAGE_ID "NAPP 10556 92" *
SOURCE_IMAGE_DATE 1998 8 26 *
SOURCE_IMAGE_ID "NAPP 10556 93" *
SOURCE_IMAGE_DATE 1998 8 26 *
SOURCE_IMAGE_ID "NAPP 10556 91" *
SOURCE_IMAGE_DATE 1998 8 26 *
SOURCE_IMAGE_ID "NAPP 10556 154" *
SOURCE_IMAGE_DATE 1998 8 26 *
SOURCE_IMAGE_ID "NAPP 10556 155" *
SOURCE_IMAGE_DATE 1998 8 26 *
SOURCE_IMAGE_ID "NAPP 10556 156" *
SOURCE_IMAGE_DATE 1998 8 26 *
SOURCE_IMAGE_ID "NAPP 10556 204" *
SOURCE_IMAGE_DATE 1998 8 26 *
SOURCE_IMAGE_ID "NAPP 10556 205" *
SOURCE_IMAGE_DATE 1998 8 26 *
SOURCE_IMAGE_ID "NAPP 10556 206" *
SOURCE_IMAGE_DATE 1998 8 26 *
SOURCE_DEM_DATE 2000 0 0 *
AGENCY "WESTERN MAPPING CENTER (WMC)" *
PRODUCER "USDA FS GEOSPATIAL SERVICE AND TECHNOLOGY CENTER" *
PRODUCTION_SYSTEM "ORBIT OR_RECTIFY V.5.2" *
STANDARD_VERSION 1996 12 *
METADATA_DATE 2001 12 31 *
DATA_FILE_SIZE 48554094 *
BYTE_COUNT 6337 * * * * * * * * * * * * * * * * * * * * *
END_USGS_HEADER *
