BEGIN_USGS_DOQ_HEADER *
QUADRANGLE_NAME "KOIP PEAK" *
QUADRANT SW *
WEST_LONGITUDE -119 15 0.000 *
EAST_LONGITUDE -119 11 15.000 *
NORTH_LATITUDE 37 48 45.000 *
SOUTH_LATITUDE 37 45 0.000 *
PRODUCTION_DATE 2001 11 26 *
RASTER_ORDER LEFT_RIGHT/TOP_BOTTOM *
BAND_ORGANIZATION "SINGLE FILE" *
BAND_CONTENT BLACK&WHITE *
BITS_PER_PIXEL 8 *
SAMPLES_AND_LINES 6356 7672 *
HORIZONTAL_DATUM NAD83 *
HORIZONTAL_COORDINATE_SYSTEM UTM *
COORDINATE_ZONE 11 *
HORIZONTAL_UNITS METERS *
HORIZONTAL_RESOLUTION 1.0 *
SECONDARY_HORIZONTAL_DATUM NAD27 *
XY_ORIGIN 301387.865 4187696.720 *
SECONDARY_XY_ORIGIN 301469.606 4187497.372 *
NATION US *
STATE CA *
NW_QUAD_CORNER_XY 301941.346 4187396.720 *
NE_QUAD_CORNER_XY 307443.654 4187266.023 *
SE_QUAD_CORNER_XY 307281.351 4180330.504 *
SW_QUAD_CORNER_XY 301774.398 4180461.128 *
SECONDARY_NW_QUAD_XY 301936.422 4187191.557 *
SECONDARY_NE_QUAD_XY 307438.864 4187060.855 *
SECONDARY_SE_QUAD_XY 307276.563 4180125.489 *
SECONDARY_SW_QUAD_XY 301769.478 4180256.118 *
RMSE_XY 4.85 *
IMAGE_SOURCE "BLACK AND WHITE FILM" *
SOURCE_IMAGE_ID "NAPP 10564 145" *
SOURCE_IMAGE_DATE 1998 9 18 *
SOURCE_IMAGE_ID "NAPP 10564 144" *
SOURCE_IMAGE_DATE 1998 9 18 *
SOURCE_IMAGE_ID "NAPP 10564 146" *
SOURCE_IMAGE_DATE 1998 9 18 *
SOURCE_IMAGE_ID "NAPP 10564 117" *
SOURCE_IMAGE_DATE 1998 9 18 *
SOURCE_IMAGE_ID "NAPP 10564 118" *
SOURCE_IMAGE_DATE 1998 9 18 *
SOURCE_IMAGE_ID "NAPP 10564 119" *
SOURCE_IMAGE_DATE 1998 9 18 *
SOURCE_IMAGE_ID "NAPP 10554 25" *
SOURCE_IMAGE_DATE 1998 8 25 *
SOURCE_IMAGE_ID "NAPP 10554 24" *
SOURCE_IMAGE_DATE 1998 8 25 *
SOURCE_IMAGE_ID "NAPP 10554 23" *
SOURCE_IMAGE_DATE 1998 8 25 *
SOURCE_DEM_DATE 2000 0 0 *
AGENCY "WESTERN MAPPING CENTER (WMC)" *
PRODUCER "USDA FS GEOSPATIAL SERVICE AND TECHNOLOGY CENTER" *
PRODUCTION_SYSTEM "ORBIT OR_RECTIFY V.5.2" *
STANDARD_VERSION 1996 12 *
METADATA_DATE 2001 12 31 *
DATA_FILE_SIZE 48769588 *
BYTE_COUNT 6356 * * * * * * * * * * * * * * * * * * * * *
END_USGS_HEADER *
