BEGIN_USGS_DOQ_HEADER *
QUADRANGLE_NAME "YOSEMITE FALLS" 3.45 or 7.5-min. name*
QUADRANT NE quadrant indicator if cell size = 3.75-minutes*
WEST_LONGITUDE -119 33 45.000 signed deg min sec SDDD MM SS.SSS*
EAST_LONGITUDE -119 30 0.000 signed deg min sec SDDD MM SS.SSS*
NORTH_LATITUDE 37 52 30.000 signed deg min sec SDDD MM SS.SSS*
SOUTH_LATITUDE 37 48 45.000 signed deg min sec SDDD MM SS.SSS*
PRODUCTION_DATE 1992 12 17 yyyy mm dd*
RASTER_ORDER LEFT_RIGHT/TOP_BOTTOM video display order*
BAND_ORGANIZATION "SINGLE FILE" single file or BSQ, or BIL or BIP*
BAND_CONTENT BLACK&WHITE black&white or red green blue*
BITS_PER_PIXEL 8 radiometric resolution*
SAMPLES_AND_LINES 6384 7702 number of columns and rows*
HORIZONTAL_DATUM NAD83 primary horizontal datum*
HORIZONTAL_COORDINATE_SYSTEM UTM *
COORDINATE_ZONE 11 coordinate system zone number*
HORIZONTAL_UNITS METERS coordinate system units*
HORIZONTAL_RESOLUTION 1.00 pixel horiz. ground sample distance*
SECONDARY_HORIZONTAL_DATUM NAD27 secondary horizontal datum*
XY_ORIGIN 274036.000 4195346.000 coord. of upper left pixel pri. datum*
SECONDARY_XY_ORIGIN 274118.590 4195146.858 coord upper left pixel sec datum*
NATION US nation code*
STATE CA state fip code*
NW_QUAD_CORNER_XY 274619.329 4195041.569 XY coords. of pri. NW quad corner*
NE_QUAD_CORNER_XY 280117.296 4194892.350 XY coords. of pri. NE quad corner*
SE_QUAD_CORNER_XY 279931.505 4187956.383 XY coords. of pri. SE quad corner*
SW_QUAD_CORNER_XY 274428.885 4188105.519 XY coords. of pri. SW quad corner*
SECONDARY_NW_QUAD_XY 274613.712 4194836.271 XY coords. - sec. NW quad cor.*
SECONDARY_NE_QUAD_XY 280111.815 4194687.048 XY coords. - sec. NE quad cor.*
SECONDARY_SE_QUAD_XY 279926.029 4187751.232 XY coords. - sec. SE quad cor.*
SECONDARY_SW_QUAD_XY 274423.272 4187900.372 XY coords. - sec. SW quad cor.*
RMSE_XY 3.10 doq horiz. accuracy*
IMAGE_SOURCE "BLACK AND WHITE FILM" b&w, cir, natural color, other*
SOURCE_IMAGE_ID "NAPP" source image id*
SOURCE_IMAGE_DATE 1987 7 2 source image date as yyyy mm dd*
SOURCE_DEM_DATE 1992 12 17 source dem date yyyy mm dd*
AGENCY "WESTERN MAPPING CENTER (WMC)" oversight agency*
PRODUCER "WMC" producer/contractor*
PRODUCTION_SYSTEM "DR-OR V1 AV500 DG/UX 5.4" production system*
STANDARD_VERSION 1996 12 version of DOQ standard*
METADATA_DATE 1997 6 15 date created or changed, yyyy mm dd*
DATA_FILE_SIZE 49175952 data set size in bytes*
BYTE_COUNT 6384 header byte count* * * * * * * * * * * * * * * * * * * * * * * * * * * * * * * * * * * * *
END_USGS_HEADER *
