BEGIN_USGS_DOQ_HEADER *
QUADRANGLE_NAME "TAMARACK FLAT" 3.45 or 7.5-min. name*
QUADRANT SW quadrant indicator if cell size = 3.75-minutes*
WEST_LONGITUDE -119 45 0.000 signed deg min sec SDDD MM SS.SSS*
EAST_LONGITUDE -119 41 15.000 signed deg min sec SDDD MM SS.SSS*
NORTH_LATITUDE 37 48 45.000 signed deg min sec SDDD MM SS.SSS*
SOUTH_LATITUDE 37 45 0.000 signed deg min sec SDDD MM SS.SSS*
PRODUCTION_DATE 1992 12 2 yyyy mm dd*
RASTER_ORDER LEFT_RIGHT/TOP_BOTTOM video display order*
BAND_ORGANIZATION "SINGLE FILE" single file or BSQ, or BIL or BIP*
BAND_CONTENT BLACK&WHITE black&white or red green blue*
BITS_PER_PIXEL 8 radiometric resolution*
SAMPLES_AND_LINES 6404 7713 number of columns and rows*
HORIZONTAL_DATUM NAD83 primary horizontal datum*
HORIZONTAL_COORDINATE_SYSTEM UTM *
COORDINATE_ZONE 11 coordinate system zone number*
HORIZONTAL_UNITS METERS coordinate system units*
HORIZONTAL_RESOLUTION 1.00 pixel horiz. ground sample distance*
SECONDARY_HORIZONTAL_DATUM NAD27 secondary horizontal datum*
XY_ORIGIN 257323.000 4188880.000 coord. of upper left pixel pri. datum*
SECONDARY_XY_ORIGIN 257405.974 4188680.674 coord upper left pixel sec datum*
NATION US nation code*
STATE CA state fip code*
NW_QUAD_CORNER_XY 257920.616 4188575.066 XY coords. of pri. NW quad corner*
NE_QUAD_CORNER_XY 263423.442 4188414.860 XY coords. of pri. NE quad corner*
SE_QUAD_CORNER_XY 263223.972 4181478.695 XY coords. of pri. SE quad corner*
SW_QUAD_CORNER_XY 257716.498 4181638.810 XY coords. of pri. SW quad corner*
SECONDARY_NW_QUAD_XY 257914.592 4188369.931 XY coords. - sec. NW quad cor.*
SECONDARY_NE_QUAD_XY 263417.555 4188209.721 XY coords. - sec. NE quad cor.*
SECONDARY_SE_QUAD_XY 263218.089 4181273.708 XY coords. - sec. SE quad cor.*
SECONDARY_SW_QUAD_XY 257710.477 4181433.827 XY coords. - sec. SW quad cor.*
RMSE_XY 2.70 doq horiz. accuracy*
IMAGE_SOURCE "BLACK AND WHITE FILM" b&w, cir, natural color, other*
SOURCE_IMAGE_ID "NAPP" source image id*
SOURCE_IMAGE_DATE 1987 7 13 source image date as yyyy mm dd*
SOURCE_DEM_DATE 1992 12 2 source dem date yyyy mm dd*
AGENCY "WESTERN MAPPING CENTER (WMC)" oversight agency*
PRODUCER "WMC" producer/contractor*
PRODUCTION_SYSTEM "DR-OR V1 AV500 DG/UX 5.4" production system*
STANDARD_VERSION 1996 12 version of DOQ standard*
METADATA_DATE 1997 6 15 date created or changed, yyyy mm dd*
DATA_FILE_SIZE 49400456 data set size in bytes*
BYTE_COUNT 6404 header byte count* * * * * * * * * * * * * * * * * * * * * * * * * * * * * * * * * * * * * *
END_USGS_HEADER *
