BEGIN_USGS_DOQ_HEADER *
QUADRANGLE_NAME "ACKERSON MOUNTAIN" *
QUADRANT NW *
WEST_LONGITUDE -119 52 30.000 *
EAST_LONGITUDE -119 48 45.000 *
NORTH_LATITUDE 37 52 30.000 *
SOUTH_LATITUDE 37 48 45.000 *
PRODUCTION_DATE 2000 11 14 *
RASTER_ORDER LEFT_RIGHT/TOP_BOTTOM *
BAND_ORGANIZATION "SINGLE FILE" *
BAND_CONTENT BLACK&WHITE *
BITS_PER_PIXEL 8 *
SAMPLES_AND_LINES 6401 7710 *
HORIZONTAL_DATUM NAD83 *
HORIZONTAL_COORDINATE_SYSTEM UTM *
COORDINATE_ZONE 11 *
HORIZONTAL_UNITS METERS *
HORIZONTAL_RESOLUTION 1.0 *
SECONDARY_HORIZONTAL_DATUM NAD27 *
XY_ORIGIN 246525.848 4196143.047 *
SECONDARY_XY_ORIGIN 246608.892 4195943.493 *
NATION US *
STATE CA *
NW_QUAD_CORNER_XY 247128.466 4195843.047 *
NE_QUAD_CORNER_XY 252626.781 4195675.366 *
SE_QUAD_CORNER_XY 252417.718 4188738.962 *
SW_QUAD_CORNER_XY 246914.746 4188906.550 *
SECONDARY_NW_QUAD_XY 247122.165 4195637.768 *
SECONDARY_NE_QUAD_XY 252620.618 4195470.083 *
SECONDARY_SE_QUAD_XY 252411.559 4188533.830 *
SECONDARY_SW_QUAD_XY 246908.450 4188701.422 *
RMSE_XY 1.36 *
IMAGE_SOURCE "BLACK AND WHITE FILM" *
SOURCE_IMAGE_ID "NAPP 10564 17" *
SOURCE_IMAGE_DATE 1998 9 18 *
SOURCE_IMAGE_ID "NAPP 10564 16" *
SOURCE_IMAGE_DATE 1998 9 18 *
SOURCE_IMAGE_ID "NAPP 10564 18" *
SOURCE_IMAGE_DATE 1998 9 18 *
SOURCE_IMAGE_ID "NAPP 10564 11" *
SOURCE_IMAGE_DATE 1998 9 18 *
SOURCE_IMAGE_ID "NAPP 10564 10" *
SOURCE_IMAGE_DATE 1998 9 18 *
SOURCE_IMAGE_ID "NAPP 10564 9" *
SOURCE_IMAGE_DATE 1998 9 18 *
SOURCE_IMAGE_ID "NAPP 10564 33" *
SOURCE_IMAGE_DATE 1998 9 18 *
SOURCE_IMAGE_ID "NAPP 10564 32" *
SOURCE_IMAGE_DATE 1998 9 18 *
SOURCE_IMAGE_ID "NAPP 10564 31" *
SOURCE_IMAGE_DATE 1998 9 18 *
SOURCE_DEM_DATE 2000 0 0 *
AGENCY "WESTERN MAPPING CENTER (WMC)" *
PRODUCER "USDA FS GEOSPATIAL SERVICE AND TECHNOLOGY CENTER" *
PRODUCTION_SYSTEM "ORBIT OR_RECTIFY V.5.2" *
STANDARD_VERSION 1996 12 *
METADATA_DATE 2000 11 16 *
DATA_FILE_SIZE 49358111 *
BYTE_COUNT 6401 * * * * * * * * * * * * * * * * * * * * *
END_USGS_HEADER *
