BEGIN_USGS_DOQ_HEADER *
QUADRANGLE_NAME "LEE VINING" 3.45 or 7.5-min. name*
QUADRANT NE quadrant indicator if cell size = 3.75-minutes*
WEST_LONGITUDE -119 3 45.000 signed deg min sec SDDD MM SS.SSS*
EAST_LONGITUDE -119 0 0.000 signed deg min sec SDDD MM SS.SSS*
NORTH_LATITUDE 38 0 0.000 signed deg min sec SDDD MM SS.SSS*
SOUTH_LATITUDE 37 56 15.000 signed deg min sec SDDD MM SS.SSS*
PRODUCTION_DATE 1996 5 13 yyyy mm dd*
RASTER_ORDER LEFT_RIGHT/TOP_BOTTOM video display order*
BAND_ORGANIZATION "SINGLE FILE" single file or BSQ, or BIL or BIP*
BAND_CONTENT BLACK&WHITE black&white or red green blue*
BITS_PER_PIXEL 8 radiometric resolution*
SAMPLES_AND_LINES 6360 7680 number of columns and rows*
HORIZONTAL_DATUM NAD83 primary horizontal datum*
HORIZONTAL_COORDINATE_SYSTEM UTM *
COORDINATE_ZONE 11 coordinate system zone number*
HORIZONTAL_UNITS METERS coordinate system units*
HORIZONTAL_RESOLUTION 1.00 pixel horiz. ground sample distance*
SECONDARY_HORIZONTAL_DATUM NAD27 secondary horizontal datum*
XY_ORIGIN 318360.000 4208130.000 coord. of upper left pixel pri. datum*
SECONDARY_XY_ORIGIN 318442.251 4207930.830 coord upper left pixel sec datum*
NATION US nation code*
STATE CA state fip code*
NW_QUAD_CORNER_XY 318908.454 4207822.205 XY coords. of pri. NW quad corner*
NE_QUAD_CORNER_XY 324396.629 4207702.367 XY coords. of pri. NE quad corner*
SE_QUAD_CORNER_XY 324247.624 4200766.863 XY coords. of pri. SE quad corner*
SW_QUAD_CORNER_XY 318754.787 4200886.635 XY coords. of pri. SW quad corner*
SECONDARY_NW_QUAD_XY 318903.926 4207616.579 XY coords. - sec. NW quad cor.*
SECONDARY_NE_QUAD_XY 324392.239 4207496.738 XY coords. - sec. NE quad cor.*
SECONDARY_SE_QUAD_XY 324243.237 4200561.384 XY coords. - sec. SE quad cor.*
SECONDARY_SW_QUAD_XY 318750.262 4200681.159 XY coords. - sec. SW quad cor.*
RMSE_XY 2.30 doq horiz. accuracy*
IMAGE_SOURCE "BLACK AND WHITE FILM" b&w, cir, natural color, other*
SOURCE_IMAGE_ID "NAPP 6310 029" source image id*
SOURCE_IMAGE_DATE 1993 9 25 source image date as yyyy mm dd*
SOURCE_DEM_DATE 1996 5 13 source dem date yyyy mm dd*
AGENCY "WESTERN MAPPING CENTER (WMC)" oversight agency*
PRODUCER "Analytical Surveys" producer/contractor*
PRODUCTION_SYSTEM "ORBIT OR_RECTIFY V.5.2" production system*
STANDARD_VERSION 1996 12 version of DOQ standard*
METADATA_DATE 1997 7 19 date created or changed, yyyy mm dd*
DATA_FILE_SIZE 48851160 data set size in bytes*
BYTE_COUNT 6360 header byte count* * * * * * * * * * * * * * * * * * * * * * * * * * * * * * * * * * * * *
END_USGS_HEADER *
