BEGIN_USGS_DOQ_HEADER *
QUADRANGLE_NAME "LEE VINING" *
QUADRANT SW *
WEST_LONGITUDE -119 7 30.000 *
EAST_LONGITUDE -119 3 45.000 *
NORTH_LATITUDE 37 56 15.000 *
SOUTH_LATITUDE 37 52 30.000 *
PRODUCTION_DATE 2001 12 3 *
RASTER_ORDER LEFT_RIGHT/TOP_BOTTOM *
BAND_ORGANIZATION "SINGLE FILE" *
BAND_CONTENT BLACK&WHITE *
BITS_PER_PIXEL 8 *
SAMPLES_AND_LINES 6337 7665 *
HORIZONTAL_DATUM NAD83 *
HORIZONTAL_COORDINATE_SYSTEM UTM *
COORDINATE_ZONE 11 *
HORIZONTAL_UNITS METERS *
HORIZONTAL_RESOLUTION 1.0 *
SECONDARY_HORIZONTAL_DATUM NAD27 *
XY_ORIGIN 312717.327 4201310.097 *
SECONDARY_XY_ORIGIN 312799.169 4201110.875 *
NATION US *
STATE CA *
NW_QUAD_CORNER_XY 313261.896 4201010.097 *
NE_QUAD_CORNER_XY 318754.787 4200886.635 *
SE_QUAD_CORNER_XY 318601.336 4193951.129 *
SW_QUAD_CORNER_XY 313103.789 4194074.523 *
SECONDARY_NW_QUAD_XY 313257.238 4200804.624 *
SECONDARY_NE_QUAD_XY 318750.265 4200681.159 *
SECONDARY_SE_QUAD_XY 318596.817 4193745.804 *
SECONDARY_SW_QUAD_XY 313099.134 4193869.201 *
RMSE_XY 1.09 *
IMAGE_SOURCE "BLACK AND WHITE FILM" *
SOURCE_IMAGE_ID "NAPP 10556 157" *
SOURCE_IMAGE_DATE 1998 8 26 *
SOURCE_IMAGE_ID "NAPP 10556 156" *
SOURCE_IMAGE_DATE 1998 8 26 *
SOURCE_IMAGE_ID "NAPP 10556 158" *
SOURCE_IMAGE_DATE 1998 8 26 *
SOURCE_IMAGE_ID "NAPP 10569 10" *
SOURCE_IMAGE_DATE 1999 8 3 *
SOURCE_IMAGE_ID "NAPP 10569 9" *
SOURCE_IMAGE_DATE 1999 8 3 *
SOURCE_IMAGE_ID "NAPP 10569 8" *
SOURCE_IMAGE_DATE 1999 8 3 *
SOURCE_IMAGE_ID "NAPP 10556 91" *
SOURCE_IMAGE_DATE 1998 8 26 *
SOURCE_IMAGE_ID "NAPP 10556 90" *
SOURCE_IMAGE_DATE 1998 8 26 *
SOURCE_IMAGE_ID "NAPP 10556 89" *
SOURCE_IMAGE_DATE 1998 8 26 *
SOURCE_DEM_DATE 2000 0 0 *
AGENCY "WESTERN MAPPING CENTER (WMC)" *
PRODUCER "USDA FS GEOSPATIAL SERVICE AND TECHNOLOGY CENTER" *
PRODUCTION_SYSTEM "ORBIT OR_RECTIFY V.5.2" *
STANDARD_VERSION 1996 12 *
METADATA_DATE 2002 1 2 *
DATA_FILE_SIZE 48579442 *
BYTE_COUNT 6337 * * * * * * * * * * * * * * * * * * * * *
END_USGS_HEADER *
