BEGIN_USGS_DOQ_HEADER *
QUADRANGLE_NAME "CHERRY LAKE SOUTH" *
QUADRANT SW *
WEST_LONGITUDE -120 0 0.000 *
EAST_LONGITUDE -119 56 15.000 *
NORTH_LATITUDE 37 56 15.000 *
SOUTH_LATITUDE 37 52 30.000 *
PRODUCTION_DATE 2000 11 14 *
RASTER_ORDER LEFT_RIGHT/TOP_BOTTOM *
BAND_ORGANIZATION "SINGLE FILE" *
BAND_CONTENT BLACK&WHITE *
BITS_PER_PIXEL 8 *
SAMPLES_AND_LINES 6407 7717 *
HORIZONTAL_DATUM NAD83 *
HORIZONTAL_COORDINATE_SYSTEM UTM *
COORDINATE_ZONE 11 *
HORIZONTAL_UNITS METERS *
HORIZONTAL_RESOLUTION 1.0 *
SECONDARY_HORIZONTAL_DATUM NAD27 *
XY_ORIGIN 235742.394 4203425.736 *
SECONDARY_XY_ORIGIN 235825.439 4203225.965 *
NATION US *
STATE CA *
NW_QUAD_CORNER_XY 236354.960 4203126.236 *
NE_QUAD_CORNER_XY 241848.761 4202951.070 *
SE_QUAD_CORNER_XY 241630.076 4196014.423 *
SW_QUAD_CORNER_XY 236131.610 4196189.492 *
SECONDARY_NW_QUAD_XY 236348.379 4202920.815 *
SECONDARY_NE_QUAD_XY 241842.318 4202745.644 *
SECONDARY_SE_QUAD_XY 241623.638 4195809.148 *
SECONDARY_SW_QUAD_XY 236125.034 4195984.222 *
RMSE_XY 1.36 *
IMAGE_SOURCE "BLACK AND WHITE FILM" *
SOURCE_IMAGE_ID "NAPP 10554 35" *
SOURCE_IMAGE_DATE 1998 8 25 *
SOURCE_IMAGE_ID "NAPP 10549 97" *
SOURCE_IMAGE_DATE 1998 8 20 *
SOURCE_IMAGE_ID "NAPP 10554 36" *
SOURCE_IMAGE_DATE 1998 8 25 *
SOURCE_IMAGE_ID "NAPP 10549 92" *
SOURCE_IMAGE_DATE 1998 8 20 *
SOURCE_IMAGE_ID "NAPP 10549 93" *
SOURCE_IMAGE_DATE 1998 8 20 *
SOURCE_IMAGE_ID "NAPP 10549 94" *
SOURCE_IMAGE_DATE 1998 8 20 *
SOURCE_IMAGE_ID "NAPP 10564 9" *
SOURCE_IMAGE_DATE 1998 9 18 *
SOURCE_IMAGE_ID "NAPP 10564 8" *
SOURCE_IMAGE_DATE 1998 9 18 *
SOURCE_IMAGE_ID "NAPP 10564 7" *
SOURCE_IMAGE_DATE 1998 9 18 *
SOURCE_DEM_DATE 2000 0 0 *
AGENCY "WESTERN MAPPING CENTER (WMC)" *
PRODUCER "USDA FS GEOSPATIAL SERVICE AND TECHNOLOGY CENTER" *
PRODUCTION_SYSTEM "ORBIT OR_RECTIFY V.5.2" *
STANDARD_VERSION 1996 12 *
METADATA_DATE 2000 11 16 *
DATA_FILE_SIZE 49449226 *
BYTE_COUNT 6407 * * * * * * * * * * * * * * * * * * * * * *
END_USGS_HEADER *
