FILENAME: 37120A54
QUADRANGLE_NAME: SANTA RITA BRIDGE
QUADRANT: SW
WEST_LONGITUDE: -120 37 30.00000
EAST_LONGITUDE: -120 33 45.00000
NORTH_LATITUDE: 37 3 45.00000
SOUTH_LATITUDE: 37 0 0.00000
PRODUCTION_DATE: 2002 01 14
RASTER_ORDER: LEFT_RIGHT/TOP_BOTTOM
BAND_ORGANIZATION: SINGLE FILE
BAND_CONTENT: BLACK&WHITE
BAND_CONTENT: UNDEFINED
BAND_CONTENT: UNDEFINED
BITS_PER_PIXEL: 8
SAMPLES_AND_LINES: 6450 7710
HORIZONTAL_DATUM: NAD83
HORIZONTAL_COORDINATE_SYSTEM: UTM
COORDINATE_ZONE: 10
HORIZONTAL_UNITS: METERS
HORIZONTAL_RESOLUTION: 1.00000
SECONDARY_HORIZONTAL_DATUM: NAD27
XY_ORIGIN: 710760.00000 4104900.00000
SECONDARY_XY_ORIGIN: 710855.67000 4104705.00400
NATION: US
STATE: CA
NW_QUAD_CORNER_XY: 711161.76800 4104444.25200
NE_QUAD_CORNER_XY: 716719.56900 4104585.00900
SE_QUAD_CORNERY_XY: 716897.36300 4097649.90600
SW_QUAD_CORNER_XY: 711334.99500 4097509.23700
SECONDARY_NW_QUAD_XY: 711166.92300 4104240.97500
SECONDARY_NE_QUAD_XY: 716724.86000 4104381.73500
SECONDARY_SE_QUAD_XY: 716902.65000 4097446.79400
SECONDARY_SW_QUAD_XY: 711340.14600 4097306.12200
RMSE_XY: 0.75000
IMAGE_SOURCE: BLACK AND WHITE FILM
SOURCE_IMAGE_ID: NAPP 10566 2
SOURCE_IMAGE_DATE: 1999 07 30
SOURCE_DEM_DATE: 1993 00 00
AGENCY: WESTERN MAPPING CENTER (WMC)
PRODUCER: SANBORN COLORADO, L.L.C.
PRODUCTION_SYSTEM: ORBIT OR_RECTIFY V.5.2
COMPRESSION: UNDEFINED
STANDARD_VERSION: 1996 12
METADATA_DATE: 2002 01 15
DATA_FILE_SIZE: 49735950
BYTE_COUNT: 6450
