FILENAME: 37120A64
QUADRANGLE_NAME: DELTA RANCH
QUADRANT: SW
WEST_LONGITUDE: -120 45 0.00000
EAST_LONGITUDE: -120 41 15.00000
NORTH_LATITUDE: 37 3 45.00000
SOUTH_LATITUDE: 37 0 0.00000
PRODUCTION_DATE: 2001 12 10
RASTER_ORDER: LEFT_RIGHT/TOP_BOTTOM
BAND_ORGANIZATION: SINGLE FILE
BAND_CONTENT: BLACK&WHITE
BAND_CONTENT: UNDEFINED
BAND_CONTENT: UNDEFINED
BITS_PER_PIXEL: 8
SAMPLES_AND_LINES: 6450 7710
HORIZONTAL_DATUM: NAD83
HORIZONTAL_COORDINATE_SYSTEM: UTM
COORDINATE_ZONE: 10
HORIZONTAL_UNITS: METERS
HORIZONTAL_RESOLUTION: 1.00000
SECONDARY_HORIZONTAL_DATUM: NAD27
XY_ORIGIN: 699630.00000 4104630.00000
SECONDARY_XY_ORIGIN: 699725.75600 4104434.84600
NATION: US
STATE: CA
NW_QUAD_CORNER_XY: 700046.37000 4104173.72300
NE_QUAD_CORNER_XY: 705604.03500 4104307.15700
SE_QUAD_CORNERY_XY: 705772.69700 4097372.22800
SW_QUAD_CORNER_XY: 700210.46700 4097238.87700
SECONDARY_NW_QUAD_XY: 700051.25400 4103970.44000
SECONDARY_NE_QUAD_XY: 705609.05500 4104103.87700
SECONDARY_SE_QUAD_XY: 705777.71200 4097169.10900
SECONDARY_SW_QUAD_XY: 700215.34600 4097035.75600
RMSE_XY: 0.72000
IMAGE_SOURCE: BLACK AND WHITE FILM
SOURCE_IMAGE_ID: NAPP 10561 2
SOURCE_IMAGE_DATE: 1998 09 16
SOURCE_DEM_DATE: 1993 00 00
AGENCY: WESTERN MAPPING CENTER (WMC)
PRODUCER: SANBORN COLORADO, L.L.C.
PRODUCTION_SYSTEM: ORBIT OR_RECTIFY V.5.2
COMPRESSION: UNDEFINED
STANDARD_VERSION: 1996 12
METADATA_DATE: 2001 12 10
DATA_FILE_SIZE: 49735950
BYTE_COUNT: 6450
