FILENAME: 37120B12
QUADRANGLE_NAME: RAYNOR CREEK
QUADRANT: NE
WEST_LONGITUDE: -120 3 45.00000
EAST_LONGITUDE: -120 0 0.00000
NORTH_LATITUDE: 37 15 0.00000
SOUTH_LATITUDE: 37 11 15.00000
PRODUCTION_DATE: 2002 01 22
RASTER_ORDER: LEFT_RIGHT/TOP_BOTTOM
BAND_ORGANIZATION: SINGLE FILE
BAND_CONTENT: BLACK&WHITE
BAND_CONTENT: UNDEFINED
BAND_CONTENT: UNDEFINED
BITS_PER_PIXEL: 8
SAMPLES_AND_LINES: 6480 7740
HORIZONTAL_DATUM: NAD83
HORIZONTAL_COORDINATE_SYSTEM: UTM
COORDINATE_ZONE: 10
HORIZONTAL_UNITS: METERS
HORIZONTAL_RESOLUTION: 1.00000
SECONDARY_HORIZONTAL_DATUM: NAD27
XY_ORIGIN: 760140.00000 4127130.00000
SECONDARY_XY_ORIGIN: 760235.17300 4126935.19200
NATION: US
STATE: CA
NW_QUAD_CORNER_XY: 760539.78400 4126650.94000
NE_QUAD_CORNER_XY: 766084.53300 4126824.99700
SE_QUAD_CORNERY_XY: 766304.40700 4119888.84100
SW_QUAD_CORNER_XY: 760755.06500 4119714.89000
SECONDARY_NW_QUAD_XY: 760546.17600 4126447.21600
SECONDARY_NE_QUAD_XY: 766091.06200 4126621.27800
SECONDARY_SE_QUAD_XY: 766310.93000 4119685.28100
SECONDARY_SW_QUAD_XY: 760761.45200 4119511.32600
RMSE_XY: 3.70000
IMAGE_SOURCE: BLACK AND WHITE FILM
SOURCE_IMAGE_ID: NAPP 10545 76
SOURCE_IMAGE_DATE: 1998 08 15
SOURCE_IMAGE_ID: NAPP 10545 74
SOURCE_IMAGE_DATE: 1998 08 15
SOURCE_IMAGE_ID: NAPP 10545 78
SOURCE_IMAGE_DATE: 1998 08 15
SOURCE_DEM_DATE: 1981 00 00
AGENCY: WESTERN MAPPING CENTER (WMC)
PRODUCER: SANBORN COLORADO, L.L.C.
PRODUCTION_SYSTEM: ORBIT OR_RECTIFY V.5.2
COMPRESSION: UNDEFINED
STANDARD_VERSION: 1996 12
METADATA_DATE: 2002 01 23
DATA_FILE_SIZE: 50161680
BYTE_COUNT: 6480
