FILENAME: 37120B11
QUADRANGLE_NAME: RAYNOR CREEK
QUADRANT: NW
WEST_LONGITUDE: -120 7 30.00000
EAST_LONGITUDE: -120 3 45.00000
NORTH_LATITUDE: 37 15 0.00000
SOUTH_LATITUDE: 37 11 15.00000
PRODUCTION_DATE: 2002 01 22
RASTER_ORDER: LEFT_RIGHT/TOP_BOTTOM
BAND_ORGANIZATION: SINGLE FILE
BAND_CONTENT: BLACK&WHITE
BAND_CONTENT: UNDEFINED
BAND_CONTENT: UNDEFINED
BITS_PER_PIXEL: 8
SAMPLES_AND_LINES: 6480 7770
HORIZONTAL_DATUM: NAD83
HORIZONTAL_COORDINATE_SYSTEM: UTM
COORDINATE_ZONE: 10
HORIZONTAL_UNITS: METERS
HORIZONTAL_RESOLUTION: 1.00000
SECONDARY_HORIZONTAL_DATUM: NAD27
XY_ORIGIN: 754590.00000 4126980.00000
SECONDARY_XY_ORIGIN: 754685.31500 4126785.20800
NATION: US
STATE: CA
NW_QUAD_CORNER_XY: 754995.11700 4126480.55700
NE_QUAD_CORNER_XY: 760539.78400 4126650.94000
SE_QUAD_CORNERY_XY: 760755.06500 4119714.89000
SW_QUAD_CORNER_XY: 755205.80700 4119544.61000
SECONDARY_NW_QUAD_XY: 755001.37300 4126276.82900
SECONDARY_NE_QUAD_XY: 760546.17600 4126447.21600
SECONDARY_SE_QUAD_XY: 760761.45200 4119511.32600
SECONDARY_SW_QUAD_XY: 755212.05800 4119341.04200
RMSE_XY: 1.82000
IMAGE_SOURCE: BLACK AND WHITE FILM
SOURCE_IMAGE_ID: NAPP 10548 96
SOURCE_IMAGE_DATE: 1998 08 18
SOURCE_DEM_DATE: 1981 00 00
AGENCY: WESTERN MAPPING CENTER (WMC)
PRODUCER: SANBORN COLORADO, L.L.C.
PRODUCTION_SYSTEM: ORBIT OR_RECTIFY V.5.2
COMPRESSION: UNDEFINED
STANDARD_VERSION: 1996 12
METADATA_DATE: 2002 01 23
DATA_FILE_SIZE: 50356080
BYTE_COUNT: 6480
