FILENAME: 37120B14
QUADRANGLE_NAME: RAYNOR CREEK
QUADRANT: SW
WEST_LONGITUDE: -120 7 30.00000
EAST_LONGITUDE: -120 3 45.00000
NORTH_LATITUDE: 37 11 15.00000
SOUTH_LATITUDE: 37 7 30.00000
PRODUCTION_DATE: 2002 01 22
RASTER_ORDER: LEFT_RIGHT/TOP_BOTTOM
BAND_ORGANIZATION: SINGLE FILE
BAND_CONTENT: BLACK&WHITE
BAND_CONTENT: UNDEFINED
BAND_CONTENT: UNDEFINED
BITS_PER_PIXEL: 8
SAMPLES_AND_LINES: 6480 7740
HORIZONTAL_DATUM: NAD83
HORIZONTAL_COORDINATE_SYSTEM: UTM
COORDINATE_ZONE: 10
HORIZONTAL_UNITS: METERS
HORIZONTAL_RESOLUTION: 1.00000
SECONDARY_HORIZONTAL_DATUM: NAD27
XY_ORIGIN: 754800.00000 4120020.00000
SECONDARY_XY_ORIGIN: 754895.23500 4119825.28900
NATION: US
STATE: CA
NW_QUAD_CORNER_XY: 755205.80700 4119544.61000
NE_QUAD_CORNER_XY: 760755.06500 4119714.89000
SE_QUAD_CORNERY_XY: 760970.03500 4112778.89400
SW_QUAD_CORNER_XY: 755416.19200 4112608.71900
SECONDARY_NW_QUAD_XY: 755212.05800 4119341.04200
SECONDARY_NE_QUAD_XY: 760761.45200 4119511.32600
SECONDARY_SE_QUAD_XY: 760976.41700 4112575.49000
SECONDARY_SW_QUAD_XY: 755422.43800 4112405.31100
RMSE_XY: 0.82000
IMAGE_SOURCE: BLACK AND WHITE FILM
SOURCE_IMAGE_ID: NAPP 10548 98
SOURCE_IMAGE_DATE: 1998 08 18
SOURCE_DEM_DATE: 1981 00 00
AGENCY: WESTERN MAPPING CENTER (WMC)
PRODUCER: SANBORN COLORADO, L.L.C.
PRODUCTION_SYSTEM: ORBIT OR_RECTIFY V.5.2
COMPRESSION: UNDEFINED
STANDARD_VERSION: 1996 12
METADATA_DATE: 2002 01 23
DATA_FILE_SIZE: 50161680
BYTE_COUNT: 6480
