FILENAME: 37120B31
QUADRANGLE_NAME: PLAINSBURG
QUADRANT: NW
WEST_LONGITUDE: -120 22 30.00000
EAST_LONGITUDE: -120 18 45.00000
NORTH_LATITUDE: 37 15 0.00000
SOUTH_LATITUDE: 37 11 15.00000
PRODUCTION_DATE: 2002 01 15
RASTER_ORDER: LEFT_RIGHT/TOP_BOTTOM
BAND_ORGANIZATION: SINGLE FILE
BAND_CONTENT: BLACK&WHITE
BAND_CONTENT: UNDEFINED
BAND_CONTENT: UNDEFINED
BITS_PER_PIXEL: 8
SAMPLES_AND_LINES: 6450 7740
HORIZONTAL_DATUM: NAD83
HORIZONTAL_COORDINATE_SYSTEM: UTM
COORDINATE_ZONE: 10
HORIZONTAL_UNITS: METERS
HORIZONTAL_RESOLUTION: 1.00000
SECONDARY_HORIZONTAL_DATUM: NAD27
XY_ORIGIN: 732420.00000 4126320.00000
SECONDARY_XY_ORIGIN: 732515.80700 4126125.14000
NATION: US
STATE: CA
NW_QUAD_CORNER_XY: 732817.24900 4125835.74400
NE_QUAD_CORNER_XY: 738361.60000 4125991.44000
SE_QUAD_CORNERY_XY: 738558.52000 4119055.79100
SW_QUAD_CORNER_XY: 733009.58000 4118900.19000
SECONDARY_NW_QUAD_XY: 732822.96100 4125632.00000
SECONDARY_NE_QUAD_XY: 738367.44800 4125787.70000
SECONDARY_SE_QUAD_XY: 738564.36300 4118852.21100
SECONDARY_SW_QUAD_XY: 733015.28700 4118696.60600
RMSE_XY: 0.64000
IMAGE_SOURCE: BLACK AND WHITE FILM
SOURCE_IMAGE_ID: NAPP 10548 143
SOURCE_IMAGE_DATE: 1998 08 18
SOURCE_DEM_DATE: 1960 00 00
AGENCY: WESTERN MAPPING CENTER (WMC)
PRODUCER: SANBORN COLORADO, L.L.C.
PRODUCTION_SYSTEM: ORBIT OR_RECTIFY V.5.2
COMPRESSION: UNDEFINED
STANDARD_VERSION: 1996 12
METADATA_DATE: 2002 01 15
DATA_FILE_SIZE: 49929450
BYTE_COUNT: 6450
