FILENAME: 37120B83
QUADRANGLE_NAME: INGOMAR
QUADRANT: SE
WEST_LONGITUDE: -120 56 15.00000
EAST_LONGITUDE: -120 52 30.00000
NORTH_LATITUDE: 37 11 15.00000
SOUTH_LATITUDE: 37 7 30.00000
PRODUCTION_DATE: 2001 12 01
RASTER_ORDER: LEFT_RIGHT/TOP_BOTTOM
BAND_ORGANIZATION: SINGLE FILE
BAND_CONTENT: BLACK&WHITE
BAND_CONTENT: UNDEFINED
BAND_CONTENT: UNDEFINED
BITS_PER_PIXEL: 8
SAMPLES_AND_LINES: 6420 7680
HORIZONTAL_DATUM: NAD83
HORIZONTAL_COORDINATE_SYSTEM: UTM
COORDINATE_ZONE: 10
HORIZONTAL_UNITS: METERS
HORIZONTAL_RESOLUTION: 1.00000
SECONDARY_HORIZONTAL_DATUM: NAD27
XY_ORIGIN: 682680.00000 4118100.00000
SECONDARY_XY_ORIGIN: 682776.10800 4117904.87200
NATION: US
STATE: CA
NW_QUAD_CORNER_XY: 683072.29800 4117664.79700
NE_QUAD_CORNER_XY: 688620.62400 4117787.40100
SE_QUAD_CORNERY_XY: 688776.04200 4110852.58800
SW_QUAD_CORNER_XY: 683223.13900 4110730.06000
SECONDARY_NW_QUAD_XY: 683076.78100 4117461.18300
SECONDARY_NE_QUAD_XY: 688625.24300 4117583.78900
SECONDARY_SE_QUAD_XY: 688780.65800 4110649.13700
SECONDARY_SW_QUAD_XY: 683227.61900 4110526.60600
RMSE_XY: 0.74000
IMAGE_SOURCE: BLACK AND WHITE FILM
SOURCE_IMAGE_ID: NAPP 10520 103
SOURCE_IMAGE_DATE: 1998 08 16
SOURCE_DEM_DATE: 1993 00 00
AGENCY: WESTERN MAPPING CENTER (WMC)
PRODUCER: SANBORN COLORADO, L.L.C.
PRODUCTION_SYSTEM: ORBIT OR_RECTIFY V.5.2
COMPRESSION: UNDEFINED
STANDARD_VERSION: 1996 12
METADATA_DATE: 2001 12 04
DATA_FILE_SIZE: 49312020
BYTE_COUNT: 6420
