FILENAME: 37120C43
QUADRANGLE_NAME: MERCED
QUADRANT: SE
WEST_LONGITUDE: -120 26 15.00000
EAST_LONGITUDE: -120 22 30.00000
NORTH_LATITUDE: 37 18 45.00000
SOUTH_LATITUDE: 37 15 0.00000
PRODUCTION_DATE: 2002 01 15
RASTER_ORDER: LEFT_RIGHT/TOP_BOTTOM
BAND_ORGANIZATION: SINGLE FILE
BAND_CONTENT: BLACK&WHITE
BAND_CONTENT: UNDEFINED
BAND_CONTENT: UNDEFINED
BITS_PER_PIXEL: 8
SAMPLES_AND_LINES: 6450 7740
HORIZONTAL_DATUM: NAD83
HORIZONTAL_COORDINATE_SYSTEM: UTM
COORDINATE_ZONE: 10
HORIZONTAL_UNITS: METERS
HORIZONTAL_RESOLUTION: 1.00000
SECONDARY_HORIZONTAL_DATUM: NAD27
XY_ORIGIN: 726690.00000 4133100.00000
SECONDARY_XY_ORIGIN: 726785.96800 4132905.10300
NATION: US
STATE: CA
NW_QUAD_CORNER_XY: 727084.96000 4132619.23900
NE_QUAD_CORNER_XY: 732624.64100 4132771.35600
SE_QUAD_CORNERY_XY: 732817.24900 4125835.74400
SW_QUAD_CORNER_XY: 727272.97300 4125683.71900
SECONDARY_NW_QUAD_XY: 727090.53900 4132415.33300
SECONDARY_NE_QUAD_XY: 732630.35700 4132567.45300
SECONDARY_SE_QUAD_XY: 732822.96100 4125632.00000
SECONDARY_SW_QUAD_XY: 727278.54900 4125479.97100
RMSE_XY: 0.79000
IMAGE_SOURCE: BLACK AND WHITE FILM
SOURCE_IMAGE_ID: NAPP 10548 20
SOURCE_IMAGE_DATE: 1998 08 18
SOURCE_DEM_DATE: 1987 00 00
AGENCY: WESTERN MAPPING CENTER (WMC)
PRODUCER: SANBORN COLORADO, L.L.C.
PRODUCTION_SYSTEM: ORBIT OR_RECTIFY V.5.2
COMPRESSION: UNDEFINED
STANDARD_VERSION: 1996 12
METADATA_DATE: 2002 01 16
DATA_FILE_SIZE: 49929450
BYTE_COUNT: 6450
