FILENAME: 37120C52
QUADRANGLE_NAME: ATWATER
QUADRANT: NE
WEST_LONGITUDE: -120 33 45.00000
EAST_LONGITUDE: -120 30 0.00000
NORTH_LATITUDE: 37 22 30.00000
SOUTH_LATITUDE: 37 18 45.00000
PRODUCTION_DATE: 2002 01 15
RASTER_ORDER: LEFT_RIGHT/TOP_BOTTOM
BAND_ORGANIZATION: SINGLE FILE
BAND_CONTENT: BLACK&WHITE
BAND_CONTENT: UNDEFINED
BAND_CONTENT: UNDEFINED
BITS_PER_PIXEL: 8
SAMPLES_AND_LINES: 6450 7740
HORIZONTAL_DATUM: NAD83
HORIZONTAL_COORDINATE_SYSTEM: UTM
COORDINATE_ZONE: 10
HORIZONTAL_UNITS: METERS
HORIZONTAL_RESOLUTION: 1.00000
SECONDARY_HORIZONTAL_DATUM: NAD27
XY_ORIGIN: 715410.00000 4139730.00000
SECONDARY_XY_ORIGIN: 715506.14100 4139535.03300
NATION: US
STATE: CA
NW_QUAD_CORNER_XY: 715826.72700 4139261.42400
NE_QUAD_CORNER_XY: 721361.66600 4139406.28400
SE_QUAD_CORNERY_XY: 721545.35000 4132470.79400
SW_QUAD_CORNER_XY: 716005.81200 4132326.02100
SECONDARY_NW_QUAD_XY: 715832.03900 4139057.35300
SECONDARY_NE_QUAD_XY: 721367.11400 4139202.21600
SECONDARY_SE_QUAD_XY: 721550.79400 4132266.88400
SECONDARY_SW_QUAD_XY: 716011.11900 4132122.10700
RMSE_XY: 0.89000
IMAGE_SOURCE: BLACK AND WHITE FILM
SOURCE_IMAGE_ID: NAPP 10561 53
SOURCE_IMAGE_DATE: 1998 09 16
SOURCE_DEM_DATE: 1987 00 00
AGENCY: WESTERN MAPPING CENTER (WMC)
PRODUCER: SANBORN COLORADO, L.L.C.
PRODUCTION_SYSTEM: ORBIT OR_RECTIFY V.5.2
COMPRESSION: UNDEFINED
STANDARD_VERSION: 1996 12
METADATA_DATE: 2002 01 16
DATA_FILE_SIZE: 49929450
BYTE_COUNT: 6450
