FILENAME: 37120C62
QUADRANGLE_NAME: ARENA
QUADRANT: NE
WEST_LONGITUDE: -120 41 15.00000
EAST_LONGITUDE: -120 37 30.00000
NORTH_LATITUDE: 37 22 30.00000
SOUTH_LATITUDE: 37 18 45.00000
PRODUCTION_DATE: 2002 01 07
RASTER_ORDER: LEFT_RIGHT/TOP_BOTTOM
BAND_ORGANIZATION: SINGLE FILE
BAND_CONTENT: BLACK&WHITE
BAND_CONTENT: UNDEFINED
BAND_CONTENT: UNDEFINED
BITS_PER_PIXEL: 8
SAMPLES_AND_LINES: 6450 7710
HORIZONTAL_DATUM: NAD83
HORIZONTAL_COORDINATE_SYSTEM: UTM
COORDINATE_ZONE: 10
HORIZONTAL_UNITS: METERS
HORIZONTAL_RESOLUTION: 1.00000
SECONDARY_HORIZONTAL_DATUM: NAD27
XY_ORIGIN: 704340.00000 4139430.00000
SECONDARY_XY_ORIGIN: 704436.22400 4139234.96600
NATION: US
STATE: CA
NW_QUAD_CORNER_XY: 704757.05200 4138982.72400
NE_QUAD_CORNER_XY: 710291.85700 4139120.23800
SE_QUAD_CORNERY_XY: 710466.34100 4132184.91900
SW_QUAD_CORNER_XY: 704926.93800 4132047.48800
SECONDARY_NW_QUAD_XY: 704762.09100 4138778.64600
SECONDARY_NE_QUAD_XY: 710297.03200 4138916.16300
SECONDARY_SE_QUAD_XY: 710471.51300 4131981.00200
SECONDARY_SW_QUAD_XY: 704931.97300 4131843.56800
RMSE_XY: 0.85000
IMAGE_SOURCE: BLACK AND WHITE FILM
SOURCE_IMAGE_ID: NAPP 10546 42
SOURCE_IMAGE_DATE: 1998 08 15
SOURCE_DEM_DATE: 1993 00 00
AGENCY: WESTERN MAPPING CENTER (WMC)
PRODUCER: SANBORN COLORADO, L.L.C.
PRODUCTION_SYSTEM: ORBIT OR_RECTIFY V.5.2
COMPRESSION: UNDEFINED
STANDARD_VERSION: 1996 12
METADATA_DATE: 2002 01 08
DATA_FILE_SIZE: 49735950
BYTE_COUNT: 6450
