FILENAME: 37120C71
QUADRANGLE_NAME: STEVINSON
QUADRANT: NW
WEST_LONGITUDE: -120 52 30.00000
EAST_LONGITUDE: -120 48 45.00000
NORTH_LATITUDE: 37 22 30.00000
SOUTH_LATITUDE: 37 18 45.00000
PRODUCTION_DATE: 2002 01 07
RASTER_ORDER: LEFT_RIGHT/TOP_BOTTOM
BAND_ORGANIZATION: SINGLE FILE
BAND_CONTENT: BLACK&WHITE
BAND_CONTENT: UNDEFINED
BAND_CONTENT: UNDEFINED
BITS_PER_PIXEL: 8
SAMPLES_AND_LINES: 6420 7710
HORIZONTAL_DATUM: NAD83
HORIZONTAL_COORDINATE_SYSTEM: UTM
COORDINATE_ZONE: 10
HORIZONTAL_UNITS: METERS
HORIZONTAL_RESOLUTION: 1.00000
SECONDARY_HORIZONTAL_DATUM: NAD27
XY_ORIGIN: 687750.00000 4139040.00000
SECONDARY_XY_ORIGIN: 687846.28700 4138844.92300
NATION: US
STATE: CA
NW_QUAD_CORNER_XY: 688153.02000 4138592.21800
NE_QUAD_CORNER_XY: 693687.63600 4138718.71500
SE_QUAD_CORNERY_XY: 693848.32600 4131783.63700
SW_QUAD_CORNER_XY: 688309.11300 4131657.21600
SECONDARY_NW_QUAD_XY: 688157.65000 4138388.13000
SECONDARY_NE_QUAD_XY: 693692.40200 4138514.63000
SECONDARY_SE_QUAD_XY: 693853.08800 4131579.71000
SECONDARY_SW_QUAD_XY: 688313.73900 4131453.28600
RMSE_XY: 0.79000
IMAGE_SOURCE: BLACK AND WHITE FILM
SOURCE_IMAGE_ID: NAPP 10519 58
SOURCE_IMAGE_DATE: 1998 08 15
SOURCE_DEM_DATE: 1993 00 00
AGENCY: WESTERN MAPPING CENTER (WMC)
PRODUCER: SANBORN COLORADO, L.L.C.
PRODUCTION_SYSTEM: ORBIT OR_RECTIFY V.5.2
COMPRESSION: UNDEFINED
STANDARD_VERSION: 1996 12
METADATA_DATE: 2002 01 09
DATA_FILE_SIZE: 49504620
BYTE_COUNT: 6420
