FILENAME: 37120C81
QUADRANGLE_NAME: GUSTINE
QUADRANT: NW
WEST_LONGITUDE: -121 0 0.00000
EAST_LONGITUDE: -120 56 15.00000
NORTH_LATITUDE: 37 22 30.00000
SOUTH_LATITUDE: 37 18 45.00000
PRODUCTION_DATE: 2002 01 07
RASTER_ORDER: LEFT_RIGHT/TOP_BOTTOM
BAND_ORGANIZATION: SINGLE FILE
BAND_CONTENT: BLACK&WHITE
BAND_CONTENT: UNDEFINED
BAND_CONTENT: UNDEFINED
BITS_PER_PIXEL: 8
SAMPLES_AND_LINES: 6390 7680
HORIZONTAL_DATUM: NAD83
HORIZONTAL_COORDINATE_SYSTEM: UTM
COORDINATE_ZONE: 10
HORIZONTAL_UNITS: METERS
HORIZONTAL_RESOLUTION: 1.00000
SECONDARY_HORIZONTAL_DATUM: NAD27
XY_ORIGIN: 676680.00000 4138770.00000
SECONDARY_XY_ORIGIN: 676776.30900 4138574.90800
NATION: US
STATE: CA
NW_QUAD_CORNER_XY: 677083.96500 4138350.23700
NE_QUAD_CORNER_XY: 682618.46300 4138469.39200
SE_QUAD_CORNERY_XY: 682769.96000 4131534.46300
SW_QUAD_CORNER_XY: 677230.86500 4131415.38000
SECONDARY_NW_QUAD_XY: 677088.32200 4138146.14300
SECONDARY_NE_QUAD_XY: 682622.95700 4138265.30100
SECONDARY_SE_QUAD_XY: 682774.45000 4131330.53000
SECONDARY_SW_QUAD_XY: 677235.21900 4131211.44400
RMSE_XY: 0.80000
IMAGE_SOURCE: BLACK AND WHITE FILM
SOURCE_IMAGE_ID: NAPP 10538 59
SOURCE_IMAGE_DATE: 1998 09 12
SOURCE_DEM_DATE: 1993 00 00
AGENCY: WESTERN MAPPING CENTER (WMC)
PRODUCER: SANBORN COLORADO, L.L.C.
PRODUCTION_SYSTEM: ORBIT OR_RECTIFY V.5.2
COMPRESSION: UNDEFINED
STANDARD_VERSION: 1996 12
METADATA_DATE: 2002 01 08
DATA_FILE_SIZE: 49081590
BYTE_COUNT: 6390
