FILENAME: 37120D11
QUADRANGLE_NAME: CATHEYS VALLEY
QUADRANT: NW
WEST_LONGITUDE: -120 7 30.00000
EAST_LONGITUDE: -120 3 45.00000
NORTH_LATITUDE: 37 30 0.00000
SOUTH_LATITUDE: 37 26 15.00000
PRODUCTION_DATE: 2002 01 21
RASTER_ORDER: LEFT_RIGHT/TOP_BOTTOM
BAND_ORGANIZATION: SINGLE FILE
BAND_CONTENT: BLACK&WHITE
BAND_CONTENT: UNDEFINED
BAND_CONTENT: UNDEFINED
BITS_PER_PIXEL: 8
SAMPLES_AND_LINES: 6450 7740
HORIZONTAL_DATUM: NAD83
HORIZONTAL_COORDINATE_SYSTEM: UTM
COORDINATE_ZONE: 10
HORIZONTAL_UNITS: METERS
HORIZONTAL_RESOLUTION: 1.00000
SECONDARY_HORIZONTAL_DATUM: NAD27
XY_ORIGIN: 753750.00000 4154700.00000
SECONDARY_XY_ORIGIN: 753845.74600 4154505.36300
NATION: US
STATE: CA
NW_QUAD_CORNER_XY: 754149.31900 4154224.89200
NE_QUAD_CORNER_XY: 759675.55400 4154395.68200
SE_QUAD_CORNERY_XY: 759892.07700 4147459.41500
SW_QUAD_CORNER_XY: 754361.22400 4147288.72500
SECONDARY_NW_QUAD_XY: 754155.59500 4154020.53400
SECONDARY_NE_QUAD_XY: 759681.96600 4154191.32800
SECONDARY_SE_QUAD_XY: 759898.48400 4147255.21800
SECONDARY_SW_QUAD_XY: 754367.49500 4147084.52400
RMSE_XY: 3.59000
IMAGE_SOURCE: BLACK AND WHITE FILM
SOURCE_IMAGE_ID: NAPP 10548 88
SOURCE_IMAGE_DATE: 1998 08 18
SOURCE_IMAGE_ID: NAPP 10548 86
SOURCE_IMAGE_DATE: 1998 08 18
SOURCE_IMAGE_ID: NAPP 10549 79
SOURCE_IMAGE_DATE: 1998 08 20
SOURCE_IMAGE_ID: NAPP 10545 69
SOURCE_IMAGE_DATE: 1998 08 15
SOURCE_IMAGE_ID: NAPP 10548 90
SOURCE_IMAGE_DATE: 1998 08 18
SOURCE_DEM_DATE: 1981 00 00
AGENCY: WESTERN MAPPING CENTER (WMC)
PRODUCER: SANBORN COLORADO, L.L.C.
PRODUCTION_SYSTEM: ORBIT OR_RECTIFY V.5.2
COMPRESSION: UNDEFINED
STANDARD_VERSION: 1996 12
METADATA_DATE: 2002 01 31
DATA_FILE_SIZE: 49929450
BYTE_COUNT: 6450
