FILENAME: 37120D44
QUADRANGLE_NAME: YOSEMITE LAKE
QUADRANT: SW
WEST_LONGITUDE: -120 30 0.00000
EAST_LONGITUDE: -120 26 15.00000
NORTH_LATITUDE: 37 26 15.00000
SOUTH_LATITUDE: 37 22 30.00000
PRODUCTION_DATE: 2002 01 17
RASTER_ORDER: LEFT_RIGHT/TOP_BOTTOM
BAND_ORGANIZATION: SINGLE FILE
BAND_CONTENT: BLACK&WHITE
BAND_CONTENT: UNDEFINED
BAND_CONTENT: UNDEFINED
BITS_PER_PIXEL: 8
SAMPLES_AND_LINES: 6420 7740
HORIZONTAL_DATUM: NAD83
HORIZONTAL_COORDINATE_SYSTEM: UTM
COORDINATE_ZONE: 10
HORIZONTAL_UNITS: METERS
HORIZONTAL_RESOLUTION: 1.00000
SECONDARY_HORIZONTAL_DATUM: NAD27
XY_ORIGIN: 720780.00000 4146810.00000
SECONDARY_XY_ORIGIN: 720876.14700 4146615.07800
NATION: US
STATE: CA
NW_QUAD_CORNER_XY: 721177.71800 4146341.83400
NE_QUAD_CORNER_XY: 726708.11900 4146490.45600
SE_QUAD_CORNERY_XY: 726896.67500 4139554.81800
SW_QUAD_CORNER_XY: 721361.66600 4139406.28400
SECONDARY_NW_QUAD_XY: 721183.17000 4146137.60900
SECONDARY_NE_QUAD_XY: 726713.70700 4146286.23400
SECONDARY_SE_QUAD_XY: 726902.25900 4139350.75400
SECONDARY_SW_QUAD_XY: 721367.11400 4139202.21600
RMSE_XY: 1.01000
IMAGE_SOURCE: BLACK AND WHITE FILM
SOURCE_IMAGE_ID: NAPP 10545 120
SOURCE_IMAGE_DATE: 1998 08 15
SOURCE_DEM_DATE: 1987 00 00
AGENCY: WESTERN MAPPING CENTER (WMC)
PRODUCER: SANBORN COLORADO, L.L.C.
PRODUCTION_SYSTEM: ORBIT OR_RECTIFY V.5.2
COMPRESSION: UNDEFINED
STANDARD_VERSION: 1996 12
METADATA_DATE: 2002 01 17
DATA_FILE_SIZE: 49697220
BYTE_COUNT: 6420
