FILENAME: 37120D62
QUADRANGLE_NAME: CRESSEY
QUADRANT: NE
WEST_LONGITUDE: -120 41 15.00000
EAST_LONGITUDE: -120 37 30.00000
NORTH_LATITUDE: 37 30 0.00000
SOUTH_LATITUDE: 37 26 15.00000
PRODUCTION_DATE: 2002 01 07
RASTER_ORDER: LEFT_RIGHT/TOP_BOTTOM
BAND_ORGANIZATION: SINGLE FILE
BAND_CONTENT: BLACK&WHITE
BAND_CONTENT: UNDEFINED
BAND_CONTENT: UNDEFINED
BITS_PER_PIXEL: 8
SAMPLES_AND_LINES: 6420 7740
HORIZONTAL_DATUM: NAD83
HORIZONTAL_COORDINATE_SYSTEM: UTM
COORDINATE_ZONE: 10
HORIZONTAL_UNITS: METERS
HORIZONTAL_RESOLUTION: 1.00000
SECONDARY_HORIZONTAL_DATUM: NAD27
XY_ORIGIN: 704010.00000 4153320.00000
SECONDARY_XY_ORIGIN: 704106.30300 4153125.01900
NATION: US
STATE: CA
NW_QUAD_CORNER_XY: 704416.54800 4152853.38200
NE_QUAD_CORNER_XY: 709942.13500 4152991.05800
SE_QUAD_CORNERY_XY: 710117.12100 4146055.61700
SW_QUAD_CORNER_XY: 704586.92200 4145918.02200
SECONDARY_NW_QUAD_XY: 704421.59400 4152648.99000
SECONDARY_NE_QUAD_XY: 709947.31800 4152786.67000
SECONDARY_SE_QUAD_XY: 710122.30000 4145851.38500
SECONDARY_SW_QUAD_XY: 704591.96500 4145713.78700
RMSE_XY: 1.22000
IMAGE_SOURCE: BLACK AND WHITE FILM
SOURCE_IMAGE_ID: NAPP 10561 36
SOURCE_IMAGE_DATE: 1998 09 16
SOURCE_DEM_DATE: 1987 00 00
AGENCY: WESTERN MAPPING CENTER (WMC)
PRODUCER: SANBORN COLORADO, L.L.C.
PRODUCTION_SYSTEM: ORBIT OR_RECTIFY V.5.2
COMPRESSION: UNDEFINED
STANDARD_VERSION: 1996 12
METADATA_DATE: 2002 01 08
DATA_FILE_SIZE: 49697220
BYTE_COUNT: 6420
