FILENAME: 37120D63
QUADRANGLE_NAME: CRESSEY
QUADRANT: SE
WEST_LONGITUDE: -120 41 15.00000
EAST_LONGITUDE: -120 37 30.00000
NORTH_LATITUDE: 37 26 15.00000
SOUTH_LATITUDE: 37 22 30.00000
PRODUCTION_DATE: 2002 01 07
RASTER_ORDER: LEFT_RIGHT/TOP_BOTTOM
BAND_ORGANIZATION: SINGLE FILE
BAND_CONTENT: BLACK&WHITE
BAND_CONTENT: UNDEFINED
BAND_CONTENT: UNDEFINED
BITS_PER_PIXEL: 8
SAMPLES_AND_LINES: 6420 7710
HORIZONTAL_DATUM: NAD83
HORIZONTAL_COORDINATE_SYSTEM: UTM
COORDINATE_ZONE: 10
HORIZONTAL_UNITS: METERS
HORIZONTAL_RESOLUTION: 1.00000
SECONDARY_HORIZONTAL_DATUM: NAD27
XY_ORIGIN: 704190.00000 4146360.00000
SECONDARY_XY_ORIGIN: 704286.26400 4146164.99200
NATION: US
STATE: CA
NW_QUAD_CORNER_XY: 704586.92200 4145918.02200
NE_QUAD_CORNER_XY: 710117.12100 4146055.61700
SE_QUAD_CORNERY_XY: 710291.85700 4139120.23800
SW_QUAD_CORNER_XY: 704757.05200 4138982.72400
SECONDARY_NW_QUAD_XY: 704591.96500 4145713.78700
SECONDARY_NE_QUAD_XY: 710122.30000 4145851.38500
SECONDARY_SE_QUAD_XY: 710297.03200 4138916.16300
SECONDARY_SW_QUAD_XY: 704762.09100 4138778.64600
RMSE_XY: 1.10000
IMAGE_SOURCE: BLACK AND WHITE FILM
SOURCE_IMAGE_ID: NAPP 10561 38
SOURCE_IMAGE_DATE: 1998 09 16
SOURCE_DEM_DATE: 1987 00 00
AGENCY: WESTERN MAPPING CENTER (WMC)
PRODUCER: SANBORN COLORADO, L.L.C.
PRODUCTION_SYSTEM: ORBIT OR_RECTIFY V.5.2
COMPRESSION: UNDEFINED
STANDARD_VERSION: 1996 12
METADATA_DATE: 2002 01 08
DATA_FILE_SIZE: 49504620
BYTE_COUNT: 6420
