FILENAME: 37120D73
QUADRANGLE_NAME: TURLOCK
QUADRANT: SE
WEST_LONGITUDE: -120 48 45.00000
EAST_LONGITUDE: -120 45 0.00000
NORTH_LATITUDE: 37 26 15.00000
SOUTH_LATITUDE: 37 22 30.00000
PRODUCTION_DATE: 2002 01 07
RASTER_ORDER: LEFT_RIGHT/TOP_BOTTOM
BAND_ORGANIZATION: SINGLE FILE
BAND_CONTENT: BLACK&WHITE
BAND_CONTENT: UNDEFINED
BAND_CONTENT: UNDEFINED
BITS_PER_PIXEL: 8
SAMPLES_AND_LINES: 6420 7710
HORIZONTAL_DATUM: NAD83
HORIZONTAL_COORDINATE_SYSTEM: UTM
COORDINATE_ZONE: 10
HORIZONTAL_UNITS: METERS
HORIZONTAL_RESOLUTION: 1.00000
SECONDARY_HORIZONTAL_DATUM: NAD27
XY_ORIGIN: 693120.00000 4146090.00000
SECONDARY_XY_ORIGIN: 693216.31300 4145894.95500
NATION: US
STATE: CA
NW_QUAD_CORNER_XY: 693526.71500 4145653.85600
NE_QUAD_CORNER_XY: 699056.78700 4145784.10200
SE_QUAD_CORNERY_XY: 699222.31300 4138848.88400
SW_QUAD_CORNER_XY: 693687.63600 4138718.71500
SECONDARY_NW_QUAD_XY: 693531.48400 4145449.61400
SECONDARY_NE_QUAD_XY: 699061.69300 4145579.86300
SECONDARY_SE_QUAD_XY: 699227.21500 4138644.80200
SECONDARY_SW_QUAD_XY: 693692.40200 4138514.63000
RMSE_XY: 0.84000
IMAGE_SOURCE: BLACK AND WHITE FILM
SOURCE_IMAGE_ID: NAPP 10520 52
SOURCE_IMAGE_DATE: 1998 08 16
SOURCE_IMAGE_ID: NAPP 10561 11
SOURCE_IMAGE_DATE: 1998 09 16
SOURCE_DEM_DATE: 1976 00 00
AGENCY: WESTERN MAPPING CENTER (WMC)
PRODUCER: SANBORN COLORADO, L.L.C.
PRODUCTION_SYSTEM: ORBIT OR_RECTIFY V.5.2
COMPRESSION: UNDEFINED
STANDARD_VERSION: 1996 12
METADATA_DATE: 2002 01 08
DATA_FILE_SIZE: 49504620
BYTE_COUNT: 6420
