FILENAME: 37120D82
QUADRANGLE_NAME: HATCH
QUADRANT: NE
WEST_LONGITUDE: -120 56 15.00000
EAST_LONGITUDE: -120 52 30.00000
NORTH_LATITUDE: 37 30 0.00000
SOUTH_LATITUDE: 37 26 15.00000
PRODUCTION_DATE: 2002 01 07
RASTER_ORDER: LEFT_RIGHT/TOP_BOTTOM
BAND_ORGANIZATION: SINGLE FILE
BAND_CONTENT: BLACK&WHITE
BAND_CONTENT: UNDEFINED
BAND_CONTENT: UNDEFINED
BITS_PER_PIXEL: 8
SAMPLES_AND_LINES: 6420 7710
HORIZONTAL_DATUM: NAD83
HORIZONTAL_COORDINATE_SYSTEM: UTM
COORDINATE_ZONE: 10
HORIZONTAL_UNITS: METERS
HORIZONTAL_RESOLUTION: 1.00000
SECONDARY_HORIZONTAL_DATUM: NAD27
XY_ORIGIN: 681900.00000 4152780.00000
SECONDARY_XY_ORIGIN: 681996.37100 4152584.94800
NATION: US
STATE: CA
NW_QUAD_CORNER_XY: 682314.81800 4152339.44200
NE_QUAD_CORNER_XY: 687840.16100 4152462.41300
SE_QUAD_CORNERY_XY: 687996.70300 4145527.28400
SW_QUAD_CORNER_XY: 682466.74900 4145404.38500
SECONDARY_NW_QUAD_XY: 682319.31800 4152135.03700
SECONDARY_NE_QUAD_XY: 687844.79800 4152258.01200
SECONDARY_SE_QUAD_XY: 688001.33600 4145323.03900
SECONDARY_SW_QUAD_XY: 682471.24600 4145200.13700
RMSE_XY: 1.86000
IMAGE_SOURCE: BLACK AND WHITE FILM
SOURCE_IMAGE_ID: NAPP 10520 113
SOURCE_IMAGE_DATE: 1998 08 16
SOURCE_DEM_DATE: 1962 00 00
AGENCY: WESTERN MAPPING CENTER (WMC)
PRODUCER: SANBORN COLORADO, L.L.C.
PRODUCTION_SYSTEM: ORBIT OR_RECTIFY V.5.2
COMPRESSION: UNDEFINED
STANDARD_VERSION: 1996 12
METADATA_DATE: 2002 01 08
DATA_FILE_SIZE: 49504620
BYTE_COUNT: 6420
