FILENAME: 37120D84
QUADRANGLE_NAME: HATCH
QUADRANT: SW
WEST_LONGITUDE: -121 0 0.00000
EAST_LONGITUDE: -120 56 15.00000
NORTH_LATITUDE: 37 26 15.00000
SOUTH_LATITUDE: 37 22 30.00000
PRODUCTION_DATE: 2002 01 07
RASTER_ORDER: LEFT_RIGHT/TOP_BOTTOM
BAND_ORGANIZATION: SINGLE FILE
BAND_CONTENT: BLACK&WHITE
BAND_CONTENT: UNDEFINED
BAND_CONTENT: UNDEFINED
BITS_PER_PIXEL: 8
SAMPLES_AND_LINES: 6390 7710
HORIZONTAL_DATUM: NAD83
HORIZONTAL_COORDINATE_SYSTEM: UTM
COORDINATE_ZONE: 10
HORIZONTAL_UNITS: METERS
HORIZONTAL_RESOLUTION: 1.00000
SECONDARY_HORIZONTAL_DATUM: NAD27
XY_ORIGIN: 676530.00000 4145730.00000
SECONDARY_XY_ORIGIN: 676626.34500 4145534.91900
NATION: US
STATE: CA
NW_QUAD_CORNER_XY: 676936.85300 4145285.15900
NE_QUAD_CORNER_XY: 682466.74900 4145404.38500
SE_QUAD_CORNERY_XY: 682618.46300 4138469.39200
SW_QUAD_CORNER_XY: 677083.96500 4138350.23700
SECONDARY_NW_QUAD_XY: 676941.21400 4145080.90800
SECONDARY_NE_QUAD_XY: 682471.24600 4145200.13700
SECONDARY_SE_QUAD_XY: 682622.95700 4138265.30100
SECONDARY_SW_QUAD_XY: 677088.32200 4138146.14300
RMSE_XY: 0.79000
IMAGE_SOURCE: BLACK AND WHITE FILM
SOURCE_IMAGE_ID: NAPP 10520 223
SOURCE_IMAGE_DATE: 1998 08 16
SOURCE_DEM_DATE: 1962 00 00
AGENCY: WESTERN MAPPING CENTER (WMC)
PRODUCER: SANBORN COLORADO, L.L.C.
PRODUCTION_SYSTEM: ORBIT OR_RECTIFY V.5.2
COMPRESSION: UNDEFINED
STANDARD_VERSION: 1996 12
METADATA_DATE: 2002 01 08
DATA_FILE_SIZE: 49273290
BYTE_COUNT: 6390
