FILENAME: 37120E23
QUADRANGLE_NAME: HORNITOS
QUADRANT: SE
WEST_LONGITUDE: -120 11 15.00000
EAST_LONGITUDE: -120 7 30.00000
NORTH_LATITUDE: 37 33 45.00000
SOUTH_LATITUDE: 37 30 0.00000
PRODUCTION_DATE: 2002 01 18
RASTER_ORDER: LEFT_RIGHT/TOP_BOTTOM
BAND_ORGANIZATION: SINGLE FILE
BAND_CONTENT: BLACK&WHITE
BAND_CONTENT: UNDEFINED
BAND_CONTENT: UNDEFINED
BITS_PER_PIXEL: 8
SAMPLES_AND_LINES: 6450 7740
HORIZONTAL_DATUM: NAD83
HORIZONTAL_COORDINATE_SYSTEM: UTM
COORDINATE_ZONE: 10
HORIZONTAL_UNITS: METERS
HORIZONTAL_RESOLUTION: 1.00000
SECONDARY_HORIZONTAL_DATUM: NAD27
XY_ORIGIN: 748020.00000 4161480.00000
SECONDARY_XY_ORIGIN: 748115.87900 4161285.38500
NATION: US
STATE: CA
NW_QUAD_CORNER_XY: 748415.57900 4160993.90700
NE_QUAD_CORNER_XY: 753937.11200 4161161.11300
SE_QUAD_CORNERY_XY: 754149.31900 4154224.89200
SW_QUAD_CORNER_XY: 748623.16300 4154057.78300
SECONDARY_NW_QUAD_XY: 748421.72300 4160789.39000
SECONDARY_NE_QUAD_XY: 753943.39200 4160956.60000
SECONDARY_SE_QUAD_XY: 754155.59500 4154020.53400
SECONDARY_SW_QUAD_XY: 748629.30200 4153853.42100
RMSE_XY: 2.64000
IMAGE_SOURCE: BLACK AND WHITE FILM
SOURCE_IMAGE_ID: NAPP 10549 74
SOURCE_IMAGE_DATE: 1998 08 20
SOURCE_IMAGE_ID: NAPP 10549 72
SOURCE_IMAGE_DATE: 1998 08 20
SOURCE_IMAGE_ID: NAPP 10545 69
SOURCE_IMAGE_DATE: 1998 08 15
SOURCE_DEM_DATE: 1973 00 00
AGENCY: WESTERN MAPPING CENTER (WMC)
PRODUCER: SANBORN COLORADO, L.L.C.
PRODUCTION_SYSTEM: ORBIT OR_RECTIFY V.5.2
COMPRESSION: UNDEFINED
STANDARD_VERSION: 1996 12
METADATA_DATE: 2002 01 25
DATA_FILE_SIZE: 49929450
BYTE_COUNT: 6450
