FILENAME: 37120E24
QUADRANGLE_NAME: HORNITOS
QUADRANT: SW
WEST_LONGITUDE: -120 15 0.00000
EAST_LONGITUDE: -120 11 15.00000
NORTH_LATITUDE: 37 33 45.00000
SOUTH_LATITUDE: 37 30 0.00000
PRODUCTION_DATE: 2002 01 18
RASTER_ORDER: LEFT_RIGHT/TOP_BOTTOM
BAND_ORGANIZATION: SINGLE FILE
BAND_CONTENT: BLACK&WHITE
BAND_CONTENT: UNDEFINED
BAND_CONTENT: UNDEFINED
BITS_PER_PIXEL: 8
SAMPLES_AND_LINES: 6450 7740
HORIZONTAL_DATUM: NAD83
HORIZONTAL_COORDINATE_SYSTEM: UTM
COORDINATE_ZONE: 10
HORIZONTAL_UNITS: METERS
HORIZONTAL_RESOLUTION: 1.00000
SECONDARY_HORIZONTAL_DATUM: NAD27
XY_ORIGIN: 742500.00000 4161300.00000
SECONDARY_XY_ORIGIN: 742595.95200 4161105.31600
NATION: US
STATE: CA
NW_QUAD_CORNER_XY: 742894.12300 4160830.38400
NE_QUAD_CORNER_XY: 748415.57900 4160993.90700
SE_QUAD_CORNERY_XY: 748623.16300 4154057.78300
SW_QUAD_CORNER_XY: 743097.08500 4153894.35500
SECONDARY_NW_QUAD_XY: 742900.13000 4160625.86200
SECONDARY_NE_QUAD_XY: 748421.72300 4160789.39000
SECONDARY_SE_QUAD_XY: 748629.30200 4153853.42100
SECONDARY_SW_QUAD_XY: 743103.08700 4153689.98900
RMSE_XY: 2.39000
IMAGE_SOURCE: BLACK AND WHITE FILM
SOURCE_IMAGE_ID: NAPP 10545 4
SOURCE_IMAGE_DATE: 1998 08 15
SOURCE_IMAGE_ID: NAPP 10545 6
SOURCE_IMAGE_DATE: 1998 08 15
SOURCE_DEM_DATE: 1973 00 00
AGENCY: WESTERN MAPPING CENTER (WMC)
PRODUCER: SANBORN COLORADO, L.L.C.
PRODUCTION_SYSTEM: ORBIT OR_RECTIFY V.5.2
COMPRESSION: UNDEFINED
STANDARD_VERSION: 1996 12
METADATA_DATE: 2002 01 25
DATA_FILE_SIZE: 49929450
BYTE_COUNT: 6450
