FILENAME: 37120E34
QUADRANGLE_NAME: MERCED FALLS
QUADRANT: SW
WEST_LONGITUDE: -120 22 30.00000
EAST_LONGITUDE: -120 18 45.00000
NORTH_LATITUDE: 37 33 45.00000
SOUTH_LATITUDE: 37 30 0.00000
PRODUCTION_DATE: 2002 01 17
RASTER_ORDER: LEFT_RIGHT/TOP_BOTTOM
BAND_ORGANIZATION: SINGLE FILE
BAND_CONTENT: BLACK&WHITE
BAND_CONTENT: UNDEFINED
BAND_CONTENT: UNDEFINED
BITS_PER_PIXEL: 8
SAMPLES_AND_LINES: 6420 7740
HORIZONTAL_DATUM: NAD83
HORIZONTAL_COORDINATE_SYSTEM: UTM
COORDINATE_ZONE: 10
HORIZONTAL_UNITS: METERS
HORIZONTAL_RESOLUTION: 1.00000
SECONDARY_HORIZONTAL_DATUM: NAD27
XY_ORIGIN: 731460.00000 4161000.00000
SECONDARY_XY_ORIGIN: 731556.05900 4160805.21700
NATION: US
STATE: CA
NW_QUAD_CORNER_XY: 731851.43400 4160514.38500
NE_QUAD_CORNER_XY: 737372.74200 4160670.54300
SE_QUAD_CORNERY_XY: 737571.08100 4153734.60800
SW_QUAD_CORNER_XY: 732045.15100 4153578.54000
SECONDARY_NW_QUAD_XY: 731857.16700 4160309.85500
SECONDARY_NE_QUAD_XY: 737378.61200 4160466.01800
SECONDARY_SE_QUAD_XY: 737576.94700 4153530.23800
SECONDARY_SW_QUAD_XY: 732050.88000 4153374.16700
RMSE_XY: 2.49000
IMAGE_SOURCE: BLACK AND WHITE FILM
SOURCE_IMAGE_ID: NAPP 10548 153
SOURCE_IMAGE_DATE: 1998 08 18
SOURCE_DEM_DATE: 1976 00 00
AGENCY: WESTERN MAPPING CENTER (WMC)
PRODUCER: SANBORN COLORADO, L.L.C.
PRODUCTION_SYSTEM: ORBIT OR_RECTIFY V.5.2
COMPRESSION: UNDEFINED
STANDARD_VERSION: 1996 12
METADATA_DATE: 2002 01 17
DATA_FILE_SIZE: 49697220
BYTE_COUNT: 6420
