FILENAME: 37120E53
QUADRANGLE_NAME: TURLOCK LAKE
QUADRANT: SE
WEST_LONGITUDE: -120 33 45.00000
EAST_LONGITUDE: -120 30 0.00000
NORTH_LATITUDE: 37 33 45.00000
SOUTH_LATITUDE: 37 30 0.00000
PRODUCTION_DATE: 2002 01 17
RASTER_ORDER: LEFT_RIGHT/TOP_BOTTOM
BAND_ORGANIZATION: SINGLE FILE
BAND_CONTENT: BLACK&WHITE
BAND_CONTENT: UNDEFINED
BAND_CONTENT: UNDEFINED
BITS_PER_PIXEL: 8
SAMPLES_AND_LINES: 6450 7710
HORIZONTAL_DATUM: NAD83
HORIZONTAL_COORDINATE_SYSTEM: UTM
COORDINATE_ZONE: 10
HORIZONTAL_UNITS: METERS
HORIZONTAL_RESOLUTION: 1.00000
SECONDARY_HORIZONTAL_DATUM: NAD27
XY_ORIGIN: 714870.00000 4160520.00000
SECONDARY_XY_ORIGIN: 714966.21400 4160325.09500
NATION: US
STATE: CA
NW_QUAD_CORNER_XY: 715287.93100 4160067.99500
NE_QUAD_CORNER_XY: 720809.03000 4160213.11100
SE_QUAD_CORNERY_XY: 720993.50600 4153277.44300
SW_QUAD_CORNER_XY: 715467.78700 4153132.41100
SECONDARY_NW_QUAD_XY: 715293.25400 4159863.45500
SECONDARY_NE_QUAD_XY: 720814.49000 4160008.57400
SECONDARY_SE_QUAD_XY: 720998.96200 4153073.06100
SECONDARY_SW_QUAD_XY: 715473.10600 4152928.02600
RMSE_XY: 1.75000
IMAGE_SOURCE: BLACK AND WHITE FILM
SOURCE_IMAGE_ID: NAPP 10545 171
SOURCE_IMAGE_DATE: 1998 08 15
SOURCE_DEM_DATE: 1968 00 00
AGENCY: WESTERN MAPPING CENTER (WMC)
PRODUCER: SANBORN COLORADO, L.L.C.
PRODUCTION_SYSTEM: ORBIT OR_RECTIFY V.5.2
COMPRESSION: UNDEFINED
STANDARD_VERSION: 1996 12
METADATA_DATE: 2002 01 17
DATA_FILE_SIZE: 49735950
BYTE_COUNT: 6450
