FILENAME: 37120E61
QUADRANGLE_NAME: MONTPELIER
QUADRANT: NW
WEST_LONGITUDE: -120 45 0.00000
EAST_LONGITUDE: -120 41 15.00000
NORTH_LATITUDE: 37 37 30.00000
SOUTH_LATITUDE: 37 33 45.00000
PRODUCTION_DATE: 2002 01 03
RASTER_ORDER: LEFT_RIGHT/TOP_BOTTOM
BAND_ORGANIZATION: SINGLE FILE
BAND_CONTENT: BLACK&WHITE
BAND_CONTENT: UNDEFINED
BAND_CONTENT: UNDEFINED
BITS_PER_PIXEL: 8
SAMPLES_AND_LINES: 6390 7710
HORIZONTAL_DATUM: NAD83
HORIZONTAL_COORDINATE_SYSTEM: UTM
COORDINATE_ZONE: 10
HORIZONTAL_UNITS: METERS
HORIZONTAL_RESOLUTION: 1.00000
SECONDARY_HORIZONTAL_DATUM: NAD27
XY_ORIGIN: 698160.00000 4167030.00000
SECONDARY_XY_ORIGIN: 698256.38800 4166835.06500
NATION: US
STATE: CA
NW_QUAD_CORNER_XY: 698558.78700 4166590.13100
NE_QUAD_CORNER_XY: 704075.06800 4166724.28600
SE_QUAD_CORNERY_XY: 704245.93000 4159788.80300
SW_QUAD_CORNER_XY: 698725.02400 4159654.72600
SECONDARY_NW_QUAD_XY: 698563.70400 4166385.42500
SECONDARY_NE_QUAD_XY: 704080.12200 4166519.58400
SECONDARY_SE_QUAD_XY: 704250.98000 4159584.25600
SECONDARY_SW_QUAD_XY: 698729.93800 4159450.17500
RMSE_XY: 1.17000
IMAGE_SOURCE: BLACK AND WHITE FILM
SOURCE_IMAGE_ID: NAPP 10546 105
SOURCE_IMAGE_DATE: 1998 08 15
SOURCE_IMAGE_ID: NAPP 10561 16
SOURCE_IMAGE_DATE: 1998 09 16
SOURCE_DEM_DATE: 1987 00 00
AGENCY: WESTERN MAPPING CENTER (WMC)
PRODUCER: SANBORN COLORADO, L.L.C.
PRODUCTION_SYSTEM: ORBIT OR_RECTIFY V.5.2
COMPRESSION: UNDEFINED
STANDARD_VERSION: 1996 12
METADATA_DATE: 2002 01 04
DATA_FILE_SIZE: 49273290
BYTE_COUNT: 6390
