FILENAME: 37120F32
QUADRANGLE_NAME: PENON BLANCO PEAK
QUADRANT: NE
WEST_LONGITUDE: -120 18 45.00000
EAST_LONGITUDE: -120 15 0.00000
NORTH_LATITUDE: 37 45 0.00000
SOUTH_LATITUDE: 37 41 15.00000
PRODUCTION_DATE: 2002 01 17
RASTER_ORDER: LEFT_RIGHT/TOP_BOTTOM
BAND_ORGANIZATION: SINGLE FILE
BAND_CONTENT: BLACK&WHITE
BAND_CONTENT: UNDEFINED
BAND_CONTENT: UNDEFINED
BITS_PER_PIXEL: 8
SAMPLES_AND_LINES: 6420 7710
HORIZONTAL_DATUM: NAD83
HORIZONTAL_COORDINATE_SYSTEM: UTM
COORDINATE_ZONE: 10
HORIZONTAL_UNITS: METERS
HORIZONTAL_RESOLUTION: 1.00000
SECONDARY_HORIZONTAL_DATUM: NAD27
XY_ORIGIN: 736380.00000 4181940.00000
SECONDARY_XY_ORIGIN: 736476.03200 4181745.41900
NATION: US
STATE: CA
NW_QUAD_CORNER_XY: 736776.02800 4181478.69500
NE_QUAD_CORNER_XY: 742283.50200 4181638.81000
SE_QUAD_CORNERY_XY: 742487.33200 4174702.61100
SW_QUAD_CORNER_XY: 736975.21500 4174542.58700
SECONDARY_NW_QUAD_XY: 736781.91100 4181273.70800
SECONDARY_NE_QUAD_XY: 742289.52300 4181433.82700
SECONDARY_SE_QUAD_XY: 742493.34800 4174497.78100
SECONDARY_SW_QUAD_XY: 736981.09400 4174337.75300
RMSE_XY: 3.36000
IMAGE_SOURCE: BLACK AND WHITE FILM
SOURCE_IMAGE_ID: NAPP 10557 60
SOURCE_IMAGE_DATE: 1998 08 29
SOURCE_IMAGE_ID: NAPP 10557 58
SOURCE_IMAGE_DATE: 1998 08 29
SOURCE_DEM_DATE: 1987 00 00
AGENCY: WESTERN MAPPING CENTER (WMC)
PRODUCER: SANBORN COLORADO, L.L.C.
PRODUCTION_SYSTEM: ORBIT OR_RECTIFY V.5.2
COMPRESSION: UNDEFINED
STANDARD_VERSION: 1996 12
METADATA_DATE: 2002 01 21
DATA_FILE_SIZE: 49504620
BYTE_COUNT: 6420
