FILENAME: 37120F43
QUADRANGLE_NAME: LA GRANGE
QUADRANT: SE
WEST_LONGITUDE: -120 26 15.00000
EAST_LONGITUDE: -120 22 30.00000
NORTH_LATITUDE: 37 41 15.00000
SOUTH_LATITUDE: 37 37 30.00000
PRODUCTION_DATE: 2002 01 17
RASTER_ORDER: LEFT_RIGHT/TOP_BOTTOM
BAND_ORGANIZATION: SINGLE FILE
BAND_CONTENT: BLACK&WHITE
BAND_CONTENT: UNDEFINED
BAND_CONTENT: UNDEFINED
BITS_PER_PIXEL: 8
SAMPLES_AND_LINES: 6420 7740
HORIZONTAL_DATUM: NAD83
HORIZONTAL_COORDINATE_SYSTEM: UTM
COORDINATE_ZONE: 10
HORIZONTAL_UNITS: METERS
HORIZONTAL_RESOLUTION: 1.00000
SECONDARY_HORIZONTAL_DATUM: NAD27
XY_ORIGIN: 725550.00000 4174710.00000
SECONDARY_XY_ORIGIN: 725646.10300 4174515.23600
NATION: US
STATE: CA
NW_QUAD_CORNER_XY: 725951.19500 4174233.59500
NE_QUAD_CORNER_XY: 731463.17000 4174386.24800
SE_QUAD_CORNERY_XY: 731657.44000 4167450.28700
SW_QUAD_CORNER_XY: 726140.83100 4167297.72200
SECONDARY_NW_QUAD_XY: 725956.80000 4174028.75400
SECONDARY_NE_QUAD_XY: 731468.91200 4174181.41000
SECONDARY_SE_QUAD_XY: 731663.17800 4167245.60300
SECONDARY_SW_QUAD_XY: 726146.43200 4167093.03400
RMSE_XY: 1.65000
IMAGE_SOURCE: BLACK AND WHITE FILM
SOURCE_IMAGE_ID: NAPP 10548 8
SOURCE_IMAGE_DATE: 1998 08 18
SOURCE_IMAGE_ID: NAPP 10548 6
SOURCE_IMAGE_DATE: 1998 08 18
SOURCE_IMAGE_ID: NAPP 10548 10
SOURCE_IMAGE_DATE: 1998 08 18
SOURCE_IMAGE_ID: NAPP 10545 128
SOURCE_IMAGE_DATE: 1998 08 15
SOURCE_DEM_DATE: 1959 00 00
AGENCY: WESTERN MAPPING CENTER (WMC)
PRODUCER: SANBORN COLORADO, L.L.C.
PRODUCTION_SYSTEM: ORBIT OR_RECTIFY V.5.2
COMPRESSION: UNDEFINED
STANDARD_VERSION: 1996 12
METADATA_DATE: 2002 01 22
DATA_FILE_SIZE: 49697220
BYTE_COUNT: 6420
