FILENAME: 37120F61
QUADRANGLE_NAME: PAULSELL
QUADRANT: NW
WEST_LONGITUDE: -120 45 0.00000
EAST_LONGITUDE: -120 41 15.00000
NORTH_LATITUDE: 37 45 0.00000
SOUTH_LATITUDE: 37 41 15.00000
PRODUCTION_DATE: 2001 12 27
RASTER_ORDER: LEFT_RIGHT/TOP_BOTTOM
BAND_ORGANIZATION: SINGLE FILE
BAND_CONTENT: BLACK&WHITE
BAND_CONTENT: UNDEFINED
BAND_CONTENT: UNDEFINED
BITS_PER_PIXEL: 8
SAMPLES_AND_LINES: 6390 7710
HORIZONTAL_DATUM: NAD83
HORIZONTAL_COORDINATE_SYSTEM: UTM
COORDINATE_ZONE: 10
HORIZONTAL_UNITS: METERS
HORIZONTAL_RESOLUTION: 1.00000
SECONDARY_HORIZONTAL_DATUM: NAD27
XY_ORIGIN: 697830.00000 4180920.00000
SECONDARY_XY_ORIGIN: 697926.43700 4180725.13700
NATION: US
STATE: CA
NW_QUAD_CORNER_XY: 698225.60200 4180461.12800
NE_QUAD_CORNER_XY: 703732.61400 4180595.43600
SE_QUAD_CORNERY_XY: 703903.96200 4173659.83000
SW_QUAD_CORNER_XY: 698392.31300 4173525.59800
SECONDARY_NW_QUAD_XY: 698230.52600 4180256.11500
SECONDARY_NE_QUAD_XY: 703737.67500 4180390.42700
SECONDARY_SE_QUAD_XY: 703909.02000 4173454.97400
SECONDARY_SW_QUAD_XY: 698397.23400 4173320.73900
RMSE_XY: 1.30000
IMAGE_SOURCE: BLACK AND WHITE FILM
SOURCE_IMAGE_ID: NAPP 10561 18
SOURCE_IMAGE_DATE: 1998 09 16
SOURCE_DEM_DATE: 1968 00 00
AGENCY: WESTERN MAPPING CENTER (WMC)
PRODUCER: SANBORN COLORADO, L.L.C.
PRODUCTION_SYSTEM: ORBIT OR_RECTIFY V.5.2
COMPRESSION: UNDEFINED
STANDARD_VERSION: 1996 12
METADATA_DATE: 2001 12 27
DATA_FILE_SIZE: 49273290
BYTE_COUNT: 6390
