FILENAME: 37120F71
QUADRANGLE_NAME: WATERFORD
QUADRANT: NW
WEST_LONGITUDE: -120 52 30.00000
EAST_LONGITUDE: -120 48 45.00000
NORTH_LATITUDE: 37 45 0.00000
SOUTH_LATITUDE: 37 41 15.00000
PRODUCTION_DATE: 2001 12 27
RASTER_ORDER: LEFT_RIGHT/TOP_BOTTOM
BAND_ORGANIZATION: SINGLE FILE
BAND_CONTENT: BLACK&WHITE
BAND_CONTENT: UNDEFINED
BAND_CONTENT: UNDEFINED
BITS_PER_PIXEL: 8
SAMPLES_AND_LINES: 6420 7710
HORIZONTAL_DATUM: NAD83
HORIZONTAL_COORDINATE_SYSTEM: UTM
COORDINATE_ZONE: 10
HORIZONTAL_UNITS: METERS
HORIZONTAL_RESOLUTION: 1.00000
SECONDARY_HORIZONTAL_DATUM: NAD27
XY_ORIGIN: 686790.00000 4180650.00000
SECONDARY_XY_ORIGIN: 686886.44400 4180455.03400
NATION: US
STATE: CA
NW_QUAD_CORNER_XY: 687211.75500 4180203.56500
NE_QUAD_CORNER_XY: 692718.64900 4180330.50400
SE_QUAD_CORNERY_XY: 692880.72300 4173395.04900
SW_QUAD_CORNER_XY: 687369.19200 4173268.18200
SECONDARY_NW_QUAD_XY: 687216.40600 4179998.54600
SECONDARY_NE_QUAD_XY: 692723.43700 4180125.48900
SECONDARY_SE_QUAD_XY: 692885.50700 4173190.18600
SECONDARY_SW_QUAD_XY: 687373.83900 4173063.31600
RMSE_XY: 0.85000
IMAGE_SOURCE: BLACK AND WHITE FILM
SOURCE_IMAGE_ID: NAPP 10519 46
SOURCE_IMAGE_DATE: 1998 08 15
SOURCE_DEM_DATE: 1969 00 00
AGENCY: WESTERN MAPPING CENTER (WMC)
PRODUCER: SANBORN COLORADO, L.L.C.
PRODUCTION_SYSTEM: ORBIT OR_RECTIFY V.5.2
COMPRESSION: UNDEFINED
STANDARD_VERSION: 1996 12
METADATA_DATE: 2002 01 02
DATA_FILE_SIZE: 49504620
BYTE_COUNT: 6420
