BEGIN_USGS_DOQ_HEADER *
QUADRANGLE_NAME "GROVELAND" *
QUADRANT NW *
WEST_LONGITUDE -120 15 0.000 *
EAST_LONGITUDE -120 11 15.000 *
NORTH_LATITUDE 37 52 30.000 *
SOUTH_LATITUDE 37 48 45.000 *
PRODUCTION_DATE 2000 11 6 *
RASTER_ORDER LEFT_RIGHT/TOP_BOTTOM *
BAND_ORGANIZATION "SINGLE FILE" *
BAND_CONTENT BLACK&WHITE *
BITS_PER_PIXEL 8 *
SAMPLES_AND_LINES 6397 7711 *
HORIZONTAL_DATUM NAD83 *
HORIZONTAL_COORDINATE_SYSTEM UTM *
COORDINATE_ZONE 10 *
HORIZONTAL_UNITS METERS *
HORIZONTAL_RESOLUTION 1.0 *
SECONDARY_HORIZONTAL_DATUM NAD27 *
XY_ORIGIN 741485.730 4195974.866 *
SECONDARY_XY_ORIGIN 741581.503 4195780.348 *
NATION US *
STATE CA *
NW_QUAD_CORNER_XY 741874.976 4195511.378 *
NE_QUAD_CORNER_XY 747373.219 4195675.366 *
SE_QUAD_CORNER_XY 747582.282 4188738.962 *
SW_QUAD_CORNER_XY 742079.384 4188575.066 *
SECONDARY_NW_QUAD_XY 741881.009 4195306.092 *
SECONDARY_NE_QUAD_XY 747379.387 4195470.083 *
SECONDARY_SE_QUAD_XY 747588.446 4188533.830 *
SECONDARY_SW_QUAD_XY 742085.411 4188369.930 *
RMSE_XY 1.70 *
IMAGE_SOURCE "BLACK AND WHITE FILM" *
SOURCE_IMAGE_ID "NAPP 10549 219" *
SOURCE_IMAGE_DATE 1998 8 20 *
SOURCE_IMAGE_ID "NAPP 10549 218" *
SOURCE_IMAGE_DATE 1998 8 20 *
SOURCE_IMAGE_ID "NAPP 10549 220" *
SOURCE_IMAGE_DATE 1998 8 20 *
SOURCE_IMAGE_ID "NAPP 10549 65" *
SOURCE_IMAGE_DATE 1998 8 20 *
SOURCE_IMAGE_ID "NAPP 10549 64" *
SOURCE_IMAGE_DATE 1998 8 20 *
SOURCE_IMAGE_ID "NAPP 10549 63" *
SOURCE_IMAGE_DATE 1998 8 20 *
SOURCE_DEM_DATE 2000 0 0 *
AGENCY "WESTERN MAPPING CENTER (WMC)" *
PRODUCER "USDA FS GEOSPATIAL SERVICE AND TECHNOLOGY CENTER" *
PRODUCTION_SYSTEM "ORBIT OR_RECTIFY V.5.2" *
STANDARD_VERSION 1996 12 *
METADATA_DATE 2000 11 16 *
DATA_FILE_SIZE 49333664 *
BYTE_COUNT 6397 * * * * * * * * * * * * * * * * * * * * * * * * * * *
END_USGS_HEADER *
