FILENAME: 37120G42
QUADRANGLE_NAME: CHINESE CAMP
QUADRANT: NE
WEST_LONGITUDE: -120 26 15.00000
EAST_LONGITUDE: -120 22 30.00000
NORTH_LATITUDE: 37 52 30.00000
SOUTH_LATITUDE: 37 48 45.00000
PRODUCTION_DATE: 2001 12 19
RASTER_ORDER: LEFT_RIGHT/TOP_BOTTOM
BAND_ORGANIZATION: SINGLE FILE
BAND_CONTENT: BLACK&WHITE
BAND_CONTENT: UNDEFINED
BAND_CONTENT: UNDEFINED
BITS_PER_PIXEL: 8
SAMPLES_AND_LINES: 6420 7710
HORIZONTAL_DATUM: NAD83
HORIZONTAL_COORDINATE_SYSTEM: UTM
COORDINATE_ZONE: 10
HORIZONTAL_UNITS: METERS
HORIZONTAL_RESOLUTION: 1.00000
SECONDARY_HORIZONTAL_DATUM: NAD27
XY_ORIGIN: 724980.00000 4195500.00000
SECONDARY_XY_ORIGIN: 725075.91900 4195305.29300
NATION: US
STATE: CA
NW_QUAD_CORNER_XY: 725380.67100 4195041.56900
NE_QUAD_CORNER_XY: 730878.70400 4195194.48000
SE_QUAD_CORNERY_XY: 731073.80200 4188258.34500
SW_QUAD_CORNER_XY: 725571.11500 4188105.51900
SECONDARY_NW_QUAD_XY: 725386.28800 4194836.27100
SECONDARY_NE_QUAD_XY: 730884.45900 4194989.18600
SECONDARY_SE_QUAD_XY: 731079.55200 4188053.20200
SECONDARY_SW_QUAD_XY: 725576.72800 4187900.37200
RMSE_XY: 3.83000
IMAGE_SOURCE: BLACK AND WHITE FILM
SOURCE_IMAGE_ID: NAPP 10548 2
SOURCE_IMAGE_DATE: 1998 08 18
SOURCE_IMAGE_ID: NAPP 10548 4
SOURCE_IMAGE_DATE: 1998 08 18
SOURCE_IMAGE_ID: NAPP 10548 163
SOURCE_IMAGE_DATE: 1998 08 18
SOURCE_IMAGE_ID: NAPP 10557 96
SOURCE_IMAGE_DATE: 1998 08 29
SOURCE_DEM_DATE: 1945 00 00
AGENCY: WESTERN MAPPING CENTER (WMC)
PRODUCER: SANBORN COLORADO, L.L.C.
PRODUCTION_SYSTEM: ORBIT OR_RECTIFY V.5.2
COMPRESSION: UNDEFINED
STANDARD_VERSION: 1996 12
METADATA_DATE: 2001 12 26
DATA_FILE_SIZE: 49504620
BYTE_COUNT: 6420
