FILENAME: 37120G43
QUADRANGLE_NAME: CHINESE CAMP
QUADRANT: SE
WEST_LONGITUDE: -120 26 15.00000
EAST_LONGITUDE: -120 22 30.00000
NORTH_LATITUDE: 37 48 45.00000
SOUTH_LATITUDE: 37 45 0.00000
PRODUCTION_DATE: 2001 12 19
RASTER_ORDER: LEFT_RIGHT/TOP_BOTTOM
BAND_ORGANIZATION: SINGLE FILE
BAND_CONTENT: BLACK&WHITE
BAND_CONTENT: UNDEFINED
BAND_CONTENT: UNDEFINED
BITS_PER_PIXEL: 8
SAMPLES_AND_LINES: 6420 7740
HORIZONTAL_DATUM: NAD83
HORIZONTAL_COORDINATE_SYSTEM: UTM
COORDINATE_ZONE: 10
HORIZONTAL_UNITS: METERS
HORIZONTAL_RESOLUTION: 1.00000
SECONDARY_HORIZONTAL_DATUM: NAD27
XY_ORIGIN: 725160.00000 4188570.00000
SECONDARY_XY_ORIGIN: 725256.00200 4188375.27800
NATION: US
STATE: CA
NW_QUAD_CORNER_XY: 725571.11500 4188105.51900
NE_QUAD_CORNER_XY: 731073.80200 4188258.34500
SE_QUAD_CORNERY_XY: 731268.62400 4181322.26700
SW_QUAD_CORNER_XY: 725761.29000 4181169.52800
SECONDARY_NW_QUAD_XY: 725576.72800 4187900.37200
SECONDARY_NE_QUAD_XY: 731079.55200 4188053.20200
SECONDARY_SE_QUAD_XY: 731274.37000 4181117.27600
SECONDARY_SW_QUAD_XY: 725766.89900 4180964.53300
RMSE_XY: 3.05000
IMAGE_SOURCE: BLACK AND WHITE FILM
SOURCE_IMAGE_ID: NAPP 10548 4
SOURCE_IMAGE_DATE: 1998 08 18
SOURCE_DEM_DATE: 1945 00 00
AGENCY: WESTERN MAPPING CENTER (WMC)
PRODUCER: SANBORN COLORADO, L.L.C.
PRODUCTION_SYSTEM: ORBIT OR_RECTIFY V.5.2
COMPRESSION: UNDEFINED
STANDARD_VERSION: 1996 12
METADATA_DATE: 2001 12 26
DATA_FILE_SIZE: 49697220
BYTE_COUNT: 6420
