FILENAME: 37120G44
QUADRANGLE_NAME: CHINESE CAMP
QUADRANT: SW
WEST_LONGITUDE: -120 30 0.00000
EAST_LONGITUDE: -120 26 15.00000
NORTH_LATITUDE: 37 48 45.00000
SOUTH_LATITUDE: 37 45 0.00000
PRODUCTION_DATE: 2001 12 19
RASTER_ORDER: LEFT_RIGHT/TOP_BOTTOM
BAND_ORGANIZATION: SINGLE FILE
BAND_CONTENT: BLACK&WHITE
BAND_CONTENT: UNDEFINED
BAND_CONTENT: UNDEFINED
BITS_PER_PIXEL: 8
SAMPLES_AND_LINES: 6420 7710
HORIZONTAL_DATUM: NAD83
HORIZONTAL_COORDINATE_SYSTEM: UTM
COORDINATE_ZONE: 10
HORIZONTAL_UNITS: METERS
HORIZONTAL_RESOLUTION: 1.00000
SECONDARY_HORIZONTAL_DATUM: NAD27
XY_ORIGIN: 719670.00000 4188420.00000
SECONDARY_XY_ORIGIN: 719766.04400 4188225.21100
NATION: US
STATE: CA
NW_QUAD_CORNER_XY: 720068.49500 4187956.38300
NE_QUAD_CORNER_XY: 725571.11500 4188105.51900
SE_QUAD_CORNERY_XY: 725761.29000 4181169.52800
SW_QUAD_CORNER_XY: 720254.02300 4181020.47500
SECONDARY_NW_QUAD_XY: 720073.97100 4187751.23200
SECONDARY_NE_QUAD_XY: 725576.72800 4187900.37200
SECONDARY_SE_QUAD_XY: 725766.89900 4180964.53300
SECONDARY_SW_QUAD_XY: 720259.49500 4180815.47700
RMSE_XY: 1.39000
IMAGE_SOURCE: BLACK AND WHITE FILM
SOURCE_IMAGE_ID: NAPP 10545 132
SOURCE_IMAGE_DATE: 1998 08 15
SOURCE_DEM_DATE: 1945 00 00
AGENCY: WESTERN MAPPING CENTER (WMC)
PRODUCER: SANBORN COLORADO, L.L.C.
PRODUCTION_SYSTEM: ORBIT OR_RECTIFY V.5.2
COMPRESSION: UNDEFINED
STANDARD_VERSION: 1996 12
METADATA_DATE: 2001 12 26
DATA_FILE_SIZE: 49504620
BYTE_COUNT: 6420
