FILENAME: 37120G53
QUADRANGLE_NAME: KEYSTONE
QUADRANT: SE
WEST_LONGITUDE: -120 33 45.00000
EAST_LONGITUDE: -120 30 0.00000
NORTH_LATITUDE: 37 48 45.00000
SOUTH_LATITUDE: 37 45 0.00000
PRODUCTION_DATE: 2001 12 17
RASTER_ORDER: LEFT_RIGHT/TOP_BOTTOM
BAND_ORGANIZATION: SINGLE FILE
BAND_CONTENT: BLACK&WHITE
BAND_CONTENT: UNDEFINED
BAND_CONTENT: UNDEFINED
BITS_PER_PIXEL: 8
SAMPLES_AND_LINES: 6420 7710
HORIZONTAL_DATUM: NAD83
HORIZONTAL_COORDINATE_SYSTEM: UTM
COORDINATE_ZONE: 10
HORIZONTAL_UNITS: METERS
HORIZONTAL_RESOLUTION: 1.00000
SECONDARY_HORIZONTAL_DATUM: NAD27
XY_ORIGIN: 714150.00000 4188270.00000
SECONDARY_XY_ORIGIN: 714246.14000 4188075.18800
NATION: US
STATE: CA
NW_QUAD_CORNER_XY: 714565.94000 4187810.93500
NE_QUAD_CORNER_XY: 720068.49500 4187956.38300
SE_QUAD_CORNERY_XY: 720254.02300 4181020.47500
SW_QUAD_CORNER_XY: 714746.82300 4180875.11000
SECONDARY_NW_QUAD_XY: 714571.28000 4187605.78100
SECONDARY_NE_QUAD_XY: 720073.97100 4187751.23200
SECONDARY_SE_QUAD_XY: 720259.49500 4180815.47700
SECONDARY_SW_QUAD_XY: 714752.15800 4180670.10700
RMSE_XY: 1.04000
IMAGE_SOURCE: BLACK AND WHITE FILM
SOURCE_IMAGE_ID: NAPP 10545 163
SOURCE_IMAGE_DATE: 1998 08 15
SOURCE_DEM_DATE: 1959 00 00
AGENCY: WESTERN MAPPING CENTER (WMC)
PRODUCER: SANBORN COLORADO, L.L.C.
PRODUCTION_SYSTEM: ORBIT OR_RECTIFY V.5.2
COMPRESSION: UNDEFINED
STANDARD_VERSION: 1996 12
METADATA_DATE: 2001 12 19
DATA_FILE_SIZE: 49504620
BYTE_COUNT: 6420
