FILENAME: 37120G64
QUADRANGLE_NAME: KNIGHTS FERRY
QUADRANT: SW
WEST_LONGITUDE: -120 45 0.00000
EAST_LONGITUDE: -120 41 15.00000
NORTH_LATITUDE: 37 48 45.00000
SOUTH_LATITUDE: 37 45 0.00000
PRODUCTION_DATE: 2001 12 17
RASTER_ORDER: LEFT_RIGHT/TOP_BOTTOM
BAND_ORGANIZATION: SINGLE FILE
BAND_CONTENT: BLACK&WHITE
BAND_CONTENT: UNDEFINED
BAND_CONTENT: UNDEFINED
BITS_PER_PIXEL: 8
SAMPLES_AND_LINES: 6390 7710
HORIZONTAL_DATUM: NAD83
HORIZONTAL_COORDINATE_SYSTEM: UTM
COORDINATE_ZONE: 10
HORIZONTAL_UNITS: METERS
HORIZONTAL_RESOLUTION: 1.00000
SECONDARY_HORIZONTAL_DATUM: NAD27
XY_ORIGIN: 697650.00000 4187850.00000
SECONDARY_XY_ORIGIN: 697746.42800 4187655.09100
NATION: US
STATE: CA
NW_QUAD_CORNER_XY: 698058.65400 4187396.72000
NE_QUAD_CORNER_XY: 703561.02200 4187531.10400
SE_QUAD_CORNERY_XY: 703732.61400 4180595.43600
SW_QUAD_CORNER_XY: 698225.60200 4180461.12800
SECONDARY_NW_QUAD_XY: 698063.58300 4187191.55500
SECONDARY_NE_QUAD_XY: 703566.08700 4187325.94300
SECONDARY_SE_QUAD_XY: 703737.67500 4180390.42700
SECONDARY_SW_QUAD_XY: 698230.52600 4180256.11500
RMSE_XY: 0.90000
IMAGE_SOURCE: BLACK AND WHITE FILM
SOURCE_IMAGE_ID: NAPP 10546 111
SOURCE_IMAGE_DATE: 1998 08 15
SOURCE_IMAGE_ID: NAPP 10561 33
SOURCE_IMAGE_DATE: 1998 09 16
SOURCE_DEM_DATE: 1959 00 00
AGENCY: WESTERN MAPPING CENTER (WMC)
PRODUCER: SANBORN COLORADO, L.L.C.
PRODUCTION_SYSTEM: ORBIT OR_RECTIFY V.5.2
COMPRESSION: UNDEFINED
STANDARD_VERSION: 1996 12
METADATA_DATE: 2001 12 19
DATA_FILE_SIZE: 49273290
BYTE_COUNT: 6390
