FILENAME: 37120H34
QUADRANGLE_NAME: STANDARD
QUADRANT: SW
WEST_LONGITUDE: -120 22 30.00000
EAST_LONGITUDE: -120 18 45.00000
NORTH_LATITUDE: 37 56 15.00000
SOUTH_LATITUDE: 37 52 30.00000
PRODUCTION_DATE: 2001 12 19
RASTER_ORDER: LEFT_RIGHT/TOP_BOTTOM
BAND_ORGANIZATION: SINGLE FILE
BAND_CONTENT: BLACK&WHITE
BAND_CONTENT: UNDEFINED
BAND_CONTENT: UNDEFINED
BITS_PER_PIXEL: 8
SAMPLES_AND_LINES: 6390 7740
HORIZONTAL_DATUM: NAD83
HORIZONTAL_COORDINATE_SYSTEM: UTM
COORDINATE_ZONE: 10
HORIZONTAL_UNITS: METERS
HORIZONTAL_RESOLUTION: 1.00000
SECONDARY_HORIZONTAL_DATUM: NAD27
XY_ORIGIN: 730290.00000 4202610.00000
SECONDARY_XY_ORIGIN: 730385.77500 4202415.36500
NATION: US
STATE: CA
NW_QUAD_CORNER_XY: 730683.33100 4202130.67400
NE_QUAD_CORNER_XY: 736176.77100 4202287.36400
SE_QUAD_CORNERY_XY: 736376.80500 4195351.08300
SW_QUAD_CORNER_XY: 730878.70400 4195194.48000
SECONDARY_NW_QUAD_XY: 730689.09000 4201925.22900
SECONDARY_NE_QUAD_XY: 736182.66700 4202081.92300
SECONDARY_SE_QUAD_XY: 736382.69700 4195145.79300
SECONDARY_SW_QUAD_XY: 730884.45900 4194989.18600
RMSE_XY: 2.96000
IMAGE_SOURCE: BLACK AND WHITE FILM
SOURCE_IMAGE_ID: NAPP 10548 165
SOURCE_IMAGE_DATE: 1998 08 18
SOURCE_IMAGE_ID: NAPP 10557 66
SOURCE_IMAGE_DATE: 1998 08 29
SOURCE_DEM_DATE: 1987 00 00
AGENCY: WESTERN MAPPING CENTER (WMC)
PRODUCER: SANBORN COLORADO, L.L.C.
PRODUCTION_SYSTEM: ORBIT OR_RECTIFY V.5.2
COMPRESSION: UNDEFINED
STANDARD_VERSION: 1996 12
METADATA_DATE: 2002 01 11
DATA_FILE_SIZE: 49464990
BYTE_COUNT: 6390
