FILENAME: 37120H41
QUADRANGLE_NAME: SONORA
QUADRANT: NW
WEST_LONGITUDE: -120 30 0.00000
EAST_LONGITUDE: -120 26 15.00000
NORTH_LATITUDE: 38 0 0.00000
SOUTH_LATITUDE: 37 56 15.00000
PRODUCTION_DATE: 2002 01 02
RASTER_ORDER: LEFT_RIGHT/TOP_BOTTOM
BAND_ORGANIZATION: SINGLE FILE
BAND_CONTENT: BLACK&WHITE
BAND_CONTENT: UNDEFINED
BAND_CONTENT: UNDEFINED
BITS_PER_PIXEL: 8
SAMPLES_AND_LINES: 6390 7740
HORIZONTAL_DATUM: NAD83
HORIZONTAL_COORDINATE_SYSTEM: UTM
COORDINATE_ZONE: 10
HORIZONTAL_UNITS: METERS
HORIZONTAL_RESOLUTION: 1.00000
SECONDARY_HORIZONTAL_DATUM: NAD27
XY_ORIGIN: 719100.00000 4209240.00000
SECONDARY_XY_ORIGIN: 719195.81900 4209045.27200
NATION: US
STATE: CA
NW_QUAD_CORNER_XY: 719510.33600 4208764.46300
NE_QUAD_CORNER_XY: 724998.97600 4208913.84700
SE_QUAD_CORNERY_XY: 725189.95800 4201977.67900
SW_QUAD_CORNER_XY: 719696.65100 4201828.37700
SECONDARY_NW_QUAD_XY: 719515.82400 4208558.86100
SECONDARY_NE_QUAD_XY: 725004.60200 4208708.24900
SECONDARY_SE_QUAD_XY: 725195.58000 4201772.23000
SECONDARY_SW_QUAD_XY: 719702.13600 4201622.92400
RMSE_XY: 2.31000
IMAGE_SOURCE: BLACK AND WHITE FILM
SOURCE_IMAGE_ID: NAPP 10561 61
SOURCE_IMAGE_DATE: 1998 09 16
SOURCE_IMAGE_ID: NAPP 10557 98
SOURCE_IMAGE_DATE: 1998 08 29
SOURCE_IMAGE_ID: NAPP 10561 63
SOURCE_IMAGE_DATE: 1998 09 16
SOURCE_IMAGE_ID: NAPP 10545 157
SOURCE_IMAGE_DATE: 1998 08 15
SOURCE_DEM_DATE: 1987 00 00
AGENCY: WESTERN MAPPING CENTER (WMC)
PRODUCER: SANBORN COLORADO, L.L.C.
PRODUCTION_SYSTEM: ORBIT OR_RECTIFY V.5.2
COMPRESSION: UNDEFINED
STANDARD_VERSION: 1996 12
METADATA_DATE: 2002 01 10
DATA_FILE_SIZE: 49464990
BYTE_COUNT: 6390
