FILENAME: 37120H71
QUADRANGLE_NAME: BACHELOR VALLEY
QUADRANT: NW
WEST_LONGITUDE: -120 52 30.00000
EAST_LONGITUDE: -120 48 45.00000
NORTH_LATITUDE: 38 0 0.00000
SOUTH_LATITUDE: 37 56 15.00000
PRODUCTION_DATE: 2001 12 16
RASTER_ORDER: LEFT_RIGHT/TOP_BOTTOM
BAND_ORGANIZATION: SINGLE FILE
BAND_CONTENT: BLACK&WHITE
BAND_CONTENT: UNDEFINED
BAND_CONTENT: UNDEFINED
BITS_PER_PIXEL: 8
SAMPLES_AND_LINES: 6390 7710
HORIZONTAL_DATUM: NAD83
HORIZONTAL_COORDINATE_SYSTEM: UTM
COORDINATE_ZONE: 10
HORIZONTAL_UNITS: METERS
HORIZONTAL_RESOLUTION: 1.00000
SECONDARY_HORIZONTAL_DATUM: NAD27
XY_ORIGIN: 686160.00000 4208400.00000
SECONDARY_XY_ORIGIN: 686256.47000 4208204.87800
NATION: US
STATE: CA
NW_QUAD_CORNER_XY: 686579.77400 4207945.73500
NE_QUAD_CORNER_XY: 692068.05700 4208072.95700
SE_QUAD_CORNERY_XY: 692231.04900 4201137.24900
SW_QUAD_CORNER_XY: 686738.10400 4201010.09700
SECONDARY_NW_QUAD_XY: 686584.43900 4207740.11200
SECONDARY_NE_QUAD_XY: 692072.85900 4207867.33700
SECONDARY_SE_QUAD_XY: 692235.84700 4200931.77900
SECONDARY_SW_QUAD_XY: 686742.76500 4200804.62400
RMSE_XY: 1.23000
IMAGE_SOURCE: BLACK AND WHITE FILM
SOURCE_IMAGE_ID: NAPP 10519 38
SOURCE_IMAGE_DATE: 1998 08 15
SOURCE_DEM_DATE: 1987 00 00
AGENCY: WESTERN MAPPING CENTER (WMC)
PRODUCER: SANBORN COLORADO, L.L.C.
PRODUCTION_SYSTEM: ORBIT OR_RECTIFY V.5.2
COMPRESSION: UNDEFINED
STANDARD_VERSION: 1996 12
METADATA_DATE: 2002 01 02
DATA_FILE_SIZE: 49273290
BYTE_COUNT: 6390
