FILENAME: 37121A51
QUADRANGLE_NAME: GILROY
QUADRANT: NW
WEST_LONGITUDE: -121 37 30.00000
EAST_LONGITUDE: -121 33 45.00000
NORTH_LATITUDE: 37 7 30.00000
SOUTH_LATITUDE: 37 3 45.00000
PRODUCTION_DATE: 2001 11 06
RASTER_ORDER: LEFT_RIGHT/TOP_BOTTOM
BAND_ORGANIZATION: SINGLE FILE
BAND_CONTENT: BLACK&WHITE
BAND_CONTENT: UNDEFINED
BAND_CONTENT: UNDEFINED
BITS_PER_PIXEL: 8
SAMPLES_AND_LINES: 6360 7650
HORIZONTAL_DATUM: NAD83
HORIZONTAL_COORDINATE_SYSTEM: UTM
COORDINATE_ZONE: 10
HORIZONTAL_UNITS: METERS
HORIZONTAL_RESOLUTION: 1.00000
SECONDARY_HORIZONTAL_DATUM: NAD27
XY_ORIGIN: 621750.00000 4110030.00000
SECONDARY_XY_ORIGIN: 621846.68300 4109833.93500
NATION: US
STATE: CA
NW_QUAD_CORNER_XY: 622144.74400 4109623.86100
NE_QUAD_CORNER_XY: 627697.09100 4109706.12700
SE_QUAD_CORNERY_XY: 627802.03700 4102772.08900
SW_QUAD_CORNER_XY: 622245.12500 4102689.87400
SECONDARY_NW_QUAD_XY: 622147.73000 4109420.38000
SECONDARY_NE_QUAD_XY: 627700.21200 4109502.64800
SECONDARY_SE_QUAD_XY: 627805.15600 4102568.77100
SECONDARY_SW_QUAD_XY: 622248.10900 4102486.55400
RMSE_XY: 1.52000
IMAGE_SOURCE: BLACK AND WHITE FILM
SOURCE_IMAGE_ID: NAPP 10525 117
SOURCE_IMAGE_DATE: 1998 08 21
SOURCE_IMAGE_ID: NAPP 10525 119
SOURCE_IMAGE_DATE: 1998 08 21
SOURCE_IMAGE_ID: NAPP 10525 172
SOURCE_IMAGE_DATE: 1998 08 21
SOURCE_DEM_DATE: 1953 00 00
AGENCY: WESTERN MAPPING CENTER (WMC)
PRODUCER: SANBORN COLORADO, L.L.C.
PRODUCTION_SYSTEM: ORBIT OR_RECTIFY V.5.2
COMPRESSION: UNDEFINED
STANDARD_VERSION: 1996 12
METADATA_DATE: 2001 11 19
DATA_FILE_SIZE: 48660360
BYTE_COUNT: 6360
