BEGIN_USGS_DOQ_HEADER *
QUADRANGLE_NAME "LOMA PRIETA" 3.45 or 7.5-min. name*
QUADRANT SW quadrant indicator if cell size = 3.75-minutes*
WEST_LONGITUDE -121 52 30.000 signed deg min sec SDDD MM SS.SSS*
EAST_LONGITUDE -121 48 45.000 signed deg min sec SDDD MM SS.SSS*
NORTH_LATITUDE 37 3 45.000 signed deg min sec SDDD MM SS.SSS*
SOUTH_LATITUDE 37 0 0.000 signed deg min sec SDDD MM SS.SSS*
PRODUCTION_DATE 1998 8 6 yyyy mm dd*
RASTER_ORDER LEFT_RIGHT/TOP_BOTTOM video display order*
BAND_ORGANIZATION "SINGLE FILE" single file or BSQ, or BIL or BIP*
BAND_CONTENT BLACK&WHITE black&white or red green blue*
BITS_PER_PIXEL 8 radiometric resolution*
SAMPLES_AND_LINES 6341 7611 number of columns and rows*
HORIZONTAL_DATUM NAD83 primary horizontal datum*
HORIZONTAL_COORDINATE_SYSTEM UTM *
COORDINATE_ZONE 10 coordinate system zone number*
HORIZONTAL_UNITS METERS coordinate system units*
HORIZONTAL_RESOLUTION 1.00 pixel horiz. ground sample distance*
SECONDARY_HORIZONTAL_DATUM NAD27 secondary horizontal datum*
XY_ORIGIN 599622.000 4102766.000 coord. of upper left pixel pri. datum*
SECONDARY_XY_ORIGIN 599719.214 4102569.505 coord upper left pixel sec datum*
NATION US nation code*
STATE CA state fip code*
NW_QUAD_CORNER_XY 600017.863 4102397.570 XY coords. of pri. NW quad corner*
NE_QUAD_CORNER_XY 605574.624 4102465.163 XY coords. of pri. NE quad corner*
SE_QUAD_CORNER_XY 605661.185 4095531.385 XY coords. of pri. SE quad corner*
SW_QUAD_CORNER_XY 600099.866 4095463.834 XY coords. of pri. SW quad corner*
SECONDARY_NW_QUAD_XY 600020.304 4102194.243 XY coords. - sec. NW quad cor.*
SECONDARY_NE_QUAD_XY 605577.201 4102261.837 XY coords. - sec. NE quad cor.*
SECONDARY_SE_QUAD_XY 605663.760 4095328.222 XY coords. - sec. SE quad cor.*
SECONDARY_SW_QUAD_XY 600102.305 4095260.670 XY coords. - sec. SW quad cor.*
RMSE_XY 2.50 doq horiz. accuracy*
IMAGE_SOURCE "BLACK AND WHITE FILM" b&w, cir, natural color, other*
SOURCE_IMAGE_ID "NAPP 6354 239" source image id*
SOURCE_IMAGE_DATE 1993 06 12 source image date as yyyy mm dd*
IMAGE_SOURCE "BLACK AND WHITE FILM" b&w, cir, natural color, other*
SOURCE_IMAGE_ID "NAPP 6355 048" source image id*
SOURCE_IMAGE_DATE 1993 06 14 source image date as yyyy mm dd*
IMAGE_SOURCE "BLACK AND WHITE FILM" b&w, cir, natural color, other*
SOURCE_IMAGE_ID "NAPP 6355 049" source image id*
SOURCE_IMAGE_DATE 1993 06 14 source image date as yyyy mm dd*
IMAGE_SOURCE "BLACK AND WHITE FILM" b&w, cir, natural color, other*
SOURCE_IMAGE_ID "NAPP 6355 050" source image id*
SOURCE_IMAGE_DATE 1993 06 14 source image date as yyyy mm dd*
IMAGE_SOURCE "BLACK AND WHITE FILM" b&w, cir, natural color, other*
SOURCE_IMAGE_ID "NAPP 6366 002" source image id*
SOURCE_IMAGE_DATE 1993 08 27 source image date as yyyy mm dd*
IMAGE_SOURCE "BLACK AND WHITE FILM" b&w, cir, natural color, other*
SOURCE_IMAGE_ID "NAPP 6366 001" source image id*
SOURCE_IMAGE_DATE 1993 08 27 source image date as yyyy mm dd*
IMAGE_SOURCE "BLACK AND WHITE FILM" b&w, cir, natural color, other*
SOURCE_IMAGE_ID "NAPP 6354 238" source image id*
SOURCE_IMAGE_DATE 1993 06 12 source image date as yyyy mm dd*
SOURCE_DEM_DATE 1955 00 00 source dem date yyyy mm dd*
AGENCY "WESTERN MAPPING CENTER (WMC)" oversight agency*
PRODUCER "SCIENCE APPLICATIONS INTERNATIONAL" producer/contractor*
PRODUCTION_SYSTEM "GIS/MAGIC" production system*
STANDARD_VERSION 1996 12 version of DOQ standard*
METADATA_DATE 1998 08 21 date created or changed, yyyy mm dd*
DATA_FILE_SIZE 48267692 data set size in bytes*
BYTE_COUNT 6341 header byte count* * * * * * * * * * * * * * * * * * *
END_USGS_HEADER *
