FILENAME: 37121B12
QUADRANGLE_NAME: HOWARD RANCH
QUADRANT: NE
WEST_LONGITUDE: -121 3 45.00000
EAST_LONGITUDE: -121 0 0.00000
NORTH_LATITUDE: 37 15 0.00000
SOUTH_LATITUDE: 37 11 15.00000
PRODUCTION_DATE: 2001 11 15
RASTER_ORDER: LEFT_RIGHT/TOP_BOTTOM
BAND_ORGANIZATION: SINGLE FILE
BAND_CONTENT: BLACK&WHITE
BAND_CONTENT: UNDEFINED
BAND_CONTENT: UNDEFINED
BITS_PER_PIXEL: 8
SAMPLES_AND_LINES: 6420 7680
HORIZONTAL_DATUM: NAD83
HORIZONTAL_COORDINATE_SYSTEM: UTM
COORDINATE_ZONE: 10
HORIZONTAL_UNITS: METERS
HORIZONTAL_RESOLUTION: 1.00000
SECONDARY_HORIZONTAL_DATUM: NAD27
XY_ORIGIN: 671430.00000 4124790.00000
SECONDARY_XY_ORIGIN: 671526.22500 4124594.88100
NATION: US
STATE: CA
NW_QUAD_CORNER_XY: 671833.92600 4124365.24100
NE_QUAD_CORNER_XY: 677377.55300 4124480.58700
SE_QUAD_CORNERY_XY: 677524.03000 4117545.85800
SW_QUAD_CORNER_XY: 671975.82000 4117430.58300
SECONDARY_NW_QUAD_XY: 671838.14100 4124161.46100
SECONDARY_NE_QUAD_XY: 677381.90400 4124276.81000
SECONDARY_SE_QUAD_XY: 677528.37800 4117342.24100
SECONDARY_SW_QUAD_XY: 671980.03200 4117226.96300
RMSE_XY: 1.75000
IMAGE_SOURCE: BLACK AND WHITE FILM
SOURCE_IMAGE_ID: NAPP 10544 9
SOURCE_IMAGE_DATE: 1999 08 02
SOURCE_DEM_DATE: 1971 00 00
AGENCY: WESTERN MAPPING CENTER (WMC)
PRODUCER: SANBORN COLORADO, L.L.C.
PRODUCTION_SYSTEM: ORBIT OR_RECTIFY V.5.2
COMPRESSION: UNDEFINED
STANDARD_VERSION: 1996 12
METADATA_DATE: 2001 11 16
DATA_FILE_SIZE: 49312020
BYTE_COUNT: 6420
