FILENAME: 37121B23
QUADRANGLE_NAME: CREVISON PEAK
QUADRANT: SE
WEST_LONGITUDE: -121 11 15.00000
EAST_LONGITUDE: -121 7 30.00000
NORTH_LATITUDE: 37 11 15.00000
SOUTH_LATITUDE: 37 7 30.00000
PRODUCTION_DATE: 2001 11 13
RASTER_ORDER: LEFT_RIGHT/TOP_BOTTOM
BAND_ORGANIZATION: SINGLE FILE
BAND_CONTENT: BLACK&WHITE
BAND_CONTENT: UNDEFINED
BAND_CONTENT: UNDEFINED
BITS_PER_PIXEL: 8
SAMPLES_AND_LINES: 6390 7680
HORIZONTAL_DATUM: NAD83
HORIZONTAL_COORDINATE_SYSTEM: UTM
COORDINATE_ZONE: 10
HORIZONTAL_UNITS: METERS
HORIZONTAL_RESOLUTION: 1.00000
SECONDARY_HORIZONTAL_DATUM: NAD27
XY_ORIGIN: 660480.00000 4117620.00000
SECONDARY_XY_ORIGIN: 660576.13400 4117424.80100
NATION: US
STATE: CA
NW_QUAD_CORNER_XY: 660879.56500 4117211.02300
NE_QUAD_CORNER_XY: 666427.66600 4117318.97100
SE_QUAD_CORNERY_XY: 666564.78000 4110384.44700
SW_QUAD_CORNER_XY: 661012.10500 4110276.56400
SECONDARY_NW_QUAD_XY: 660883.50500 4117007.39700
SECONDARY_NE_QUAD_XY: 666431.74200 4117115.34800
SECONDARY_SE_QUAD_XY: 666568.85200 4110180.98400
SECONDARY_SW_QUAD_XY: 661016.04100 4110073.09900
RMSE_XY: 3.69000
IMAGE_SOURCE: BLACK AND WHITE FILM
SOURCE_IMAGE_ID: NAPP 10521 216
SOURCE_IMAGE_DATE: 1998 08 16
SOURCE_IMAGE_ID: NAPP 10522 76
SOURCE_IMAGE_DATE: 1998 08 16
SOURCE_DEM_DATE: 1971 00 00
AGENCY: WESTERN MAPPING CENTER (WMC)
PRODUCER: SANBORN COLORADO, L.L.C.
PRODUCTION_SYSTEM: ORBIT OR_RECTIFY V.5.2
COMPRESSION: UNDEFINED
STANDARD_VERSION: 1996 12
METADATA_DATE: 2002 01 29
DATA_FILE_SIZE: 49081590
BYTE_COUNT: 6390
